BEGIN:VCALENDAR
VERSION:2.0
PRODID:-//Cottesmore Village Hall - ECPv6.15.20//NONSGML v1.0//EN
CALSCALE:GREGORIAN
METHOD:PUBLISH
X-WR-CALNAME:Cottesmore Village Hall
X-ORIGINAL-URL:https://cottesmorevillagehall.org
X-WR-CALDESC:Events for Cottesmore Village Hall
REFRESH-INTERVAL;VALUE=DURATION:PT1H
X-Robots-Tag:noindex
X-PUBLISHED-TTL:PT1H
BEGIN:VTIMEZONE
TZID:Europe/London
BEGIN:DAYLIGHT
TZOFFSETFROM:+0000
TZOFFSETTO:+0100
TZNAME:BST
DTSTART:20230326T010000
END:DAYLIGHT
BEGIN:STANDARD
TZOFFSETFROM:+0100
TZOFFSETTO:+0000
TZNAME:GMT
DTSTART:20231029T010000
END:STANDARD
BEGIN:DAYLIGHT
TZOFFSETFROM:+0000
TZOFFSETTO:+0100
TZNAME:BST
DTSTART:20240331T010000
END:DAYLIGHT
BEGIN:STANDARD
TZOFFSETFROM:+0100
TZOFFSETTO:+0000
TZNAME:GMT
DTSTART:20241027T010000
END:STANDARD
BEGIN:DAYLIGHT
TZOFFSETFROM:+0000
TZOFFSETTO:+0100
TZNAME:BST
DTSTART:20250330T010000
END:DAYLIGHT
BEGIN:STANDARD
TZOFFSETFROM:+0100
TZOFFSETTO:+0000
TZNAME:GMT
DTSTART:20251026T010000
END:STANDARD
END:VTIMEZONE
BEGIN:VEVENT
DTSTART;TZID=Europe/London:20241001T090000
DTEND;TZID=Europe/London:20241001T170000
DTSTAMP:20260426T004046
CREATED:20241001T134213Z
LAST-MODIFIED:20241001T134213Z
UID:1110-1727773200-1727802000@cottesmorevillagehall.org
SUMMARY:Lavender Mill
DESCRIPTION:Including McNeill’s bar
URL:https://cottesmorevillagehall.org/event/lavender-mill-36/
END:VEVENT
BEGIN:VEVENT
DTSTART;TZID=Europe/London:20241001T090000
DTEND;TZID=Europe/London:20241001T170000
DTSTAMP:20260426T004046
CREATED:20241001T121633Z
LAST-MODIFIED:20241001T121633Z
UID:1019-1727773200-1727802000@cottesmorevillagehall.org
SUMMARY:Lavender Mill
DESCRIPTION:McNeill’s Bar
URL:https://cottesmorevillagehall.org/event/lavender-mill-24/
END:VEVENT
BEGIN:VEVENT
DTSTART;TZID=Europe/London:20241001T090000
DTEND;TZID=Europe/London:20241001T133000
DTSTAMP:20260426T004046
CREATED:20241001T121825Z
LAST-MODIFIED:20241001T121825Z
UID:1025-1727773200-1727789400@cottesmorevillagehall.org
SUMMARY:Lavender Mill
DESCRIPTION:
URL:https://cottesmorevillagehall.org/event/lavender-mill-25/
END:VEVENT
BEGIN:VEVENT
DTSTART;TZID=Europe/London:20240930T140000
DTEND;TZID=Europe/London:20240930T160000
DTSTAMP:20260426T004046
CREATED:20240830T122439Z
LAST-MODIFIED:20240830T122439Z
UID:999-1727704800-1727712000@cottesmorevillagehall.org
SUMMARY:Table Tennis
DESCRIPTION:
URL:https://cottesmorevillagehall.org/event/table-tennis-81/
END:VEVENT
BEGIN:VEVENT
DTSTART;TZID=Europe/London:20240930T093000
DTEND;TZID=Europe/London:20240930T104500
DTSTAMP:20260426T004046
CREATED:20240830T122519Z
LAST-MODIFIED:20240830T122519Z
UID:1001-1727688600-1727693100@cottesmorevillagehall.org
SUMMARY:Yoga
DESCRIPTION:
URL:https://cottesmorevillagehall.org/event/yoga-44/
END:VEVENT
BEGIN:VEVENT
DTSTART;TZID=Europe/London:20240928T110000
DTEND;TZID=Europe/London:20240928T130000
DTSTAMP:20260426T004046
CREATED:20240910T092753Z
LAST-MODIFIED:20240910T092753Z
UID:1011-1727521200-1727528400@cottesmorevillagehall.org
SUMMARY:Pickle Ball
DESCRIPTION:
URL:https://cottesmorevillagehall.org/event/pickle-ball-7/
END:VEVENT
BEGIN:VEVENT
DTSTART;TZID=Europe/London:20240928T093000
DTEND;TZID=Europe/London:20240928T104500
DTSTAMP:20260426T004046
CREATED:20240830T122401Z
LAST-MODIFIED:20240830T122401Z
UID:997-1727515800-1727520300@cottesmorevillagehall.org
SUMMARY:Yoga
DESCRIPTION:
URL:https://cottesmorevillagehall.org/event/yoga-43/
END:VEVENT
BEGIN:VEVENT
DTSTART;TZID=Europe/London:20240927T140000
DTEND;TZID=Europe/London:20240927T160000
DTSTAMP:20260426T004046
CREATED:20240830T122228Z
LAST-MODIFIED:20240830T122228Z
UID:993-1727445600-1727452800@cottesmorevillagehall.org
SUMMARY:Table Tennis
DESCRIPTION:
URL:https://cottesmorevillagehall.org/event/table-tennis-80/
END:VEVENT
BEGIN:VEVENT
DTSTART;TZID=Europe/London:20240927T090000
DTEND;TZID=Europe/London:20240927T133000
DTSTAMP:20260426T004046
CREATED:20240830T122327Z
LAST-MODIFIED:20240830T122327Z
UID:995-1727427600-1727443800@cottesmorevillagehall.org
SUMMARY:Lavender Mill
DESCRIPTION:Village hall
URL:https://cottesmorevillagehall.org/event/lavender-mill-23/
END:VEVENT
BEGIN:VEVENT
DTSTART;VALUE=DATE:20240927
DTEND;VALUE=DATE:20240928
DTSTAMP:20260426T004046
CREATED:20240830T122155Z
LAST-MODIFIED:20240830T122155Z
UID:991-1727395200-1727481599@cottesmorevillagehall.org
SUMMARY:Lavender Mill
DESCRIPTION:Mc Neills bar
URL:https://cottesmorevillagehall.org/event/lavender-mill-22/
END:VEVENT
BEGIN:VEVENT
DTSTART;TZID=Europe/London:20240926T180000
DTEND;TZID=Europe/London:20240926T193000
DTSTAMP:20260426T004046
CREATED:20240830T121957Z
LAST-MODIFIED:20240830T121957Z
UID:985-1727373600-1727379000@cottesmorevillagehall.org
SUMMARY:Brownies
DESCRIPTION:
URL:https://cottesmorevillagehall.org/event/brownies-14/
END:VEVENT
BEGIN:VEVENT
DTSTART;TZID=Europe/London:20240926T133000
DTEND;TZID=Europe/London:20240926T143000
DTSTAMP:20260426T004046
CREATED:20240830T122036Z
LAST-MODIFIED:20240830T122036Z
UID:987-1727357400-1727361000@cottesmorevillagehall.org
SUMMARY:Tac Chi
DESCRIPTION:
URL:https://cottesmorevillagehall.org/event/tac-chi/
END:VEVENT
BEGIN:VEVENT
DTSTART;TZID=Europe/London:20240926T103000
DTEND;TZID=Europe/London:20240926T123000
DTSTAMP:20260426T004046
CREATED:20240830T122113Z
LAST-MODIFIED:20240830T122113Z
UID:989-1727346600-1727353800@cottesmorevillagehall.org
SUMMARY:Pickleball
DESCRIPTION:
URL:https://cottesmorevillagehall.org/event/pickleball-22/
END:VEVENT
BEGIN:VEVENT
DTSTART;TZID=Europe/London:20240925T140000
DTEND;TZID=Europe/London:20240925T160000
DTSTAMP:20260426T004046
CREATED:20240830T121809Z
LAST-MODIFIED:20240830T121809Z
UID:981-1727272800-1727280000@cottesmorevillagehall.org
SUMMARY:Table Tennis
DESCRIPTION:
URL:https://cottesmorevillagehall.org/event/table-tennis-79/
END:VEVENT
BEGIN:VEVENT
DTSTART;TZID=Europe/London:20240925T090000
DTEND;TZID=Europe/London:20240925T133000
DTSTAMP:20260426T004046
CREATED:20240830T121846Z
LAST-MODIFIED:20240830T121846Z
UID:983-1727254800-1727271000@cottesmorevillagehall.org
SUMMARY:Lavender Mill
DESCRIPTION:Village hall
URL:https://cottesmorevillagehall.org/event/lavender-mill-21/
END:VEVENT
BEGIN:VEVENT
DTSTART;VALUE=DATE:20240925
DTEND;VALUE=DATE:20240926
DTSTAMP:20260426T004046
CREATED:20240830T121741Z
LAST-MODIFIED:20240830T121741Z
UID:979-1727222400-1727308799@cottesmorevillagehall.org
SUMMARY:Lavender Mill
DESCRIPTION:McNeills bar
URL:https://cottesmorevillagehall.org/event/lavender-mill-20/
END:VEVENT
BEGIN:VEVENT
DTSTART;TZID=Europe/London:20240924T170000
DTEND;TZID=Europe/London:20240924T183000
DTSTAMP:20260426T004046
CREATED:20240830T121407Z
LAST-MODIFIED:20240830T121407Z
UID:973-1727197200-1727202600@cottesmorevillagehall.org
SUMMARY:Children's Karate
DESCRIPTION:
URL:https://cottesmorevillagehall.org/event/childrens-karate-20/
END:VEVENT
BEGIN:VEVENT
DTSTART;TZID=Europe/London:20240924T133000
DTEND;TZID=Europe/London:20240924T143000
DTSTAMP:20260426T004046
CREATED:20240830T121454Z
LAST-MODIFIED:20240830T121454Z
UID:975-1727184600-1727188200@cottesmorevillagehall.org
SUMMARY:Tai Chi
DESCRIPTION:
URL:https://cottesmorevillagehall.org/event/tai-chi-41/
END:VEVENT
BEGIN:VEVENT
DTSTART;TZID=Europe/London:20240924T090000
DTEND;TZID=Europe/London:20240924T133000
DTSTAMP:20260426T004046
CREATED:20240830T121547Z
LAST-MODIFIED:20240830T121547Z
UID:977-1727168400-1727184600@cottesmorevillagehall.org
SUMMARY:Lavender Mill
DESCRIPTION:Village Hall
URL:https://cottesmorevillagehall.org/event/lavender-mill-19/
END:VEVENT
BEGIN:VEVENT
DTSTART;VALUE=DATE:20240924
DTEND;VALUE=DATE:20240925
DTSTAMP:20260426T004046
CREATED:20240830T121314Z
LAST-MODIFIED:20240830T121314Z
UID:971-1727136000-1727222399@cottesmorevillagehall.org
SUMMARY:Lavender Mill
DESCRIPTION:McNeills bar
URL:https://cottesmorevillagehall.org/event/lavender-mill-18/
END:VEVENT
BEGIN:VEVENT
DTSTART;TZID=Europe/London:20240923T140000
DTEND;TZID=Europe/London:20240923T160000
DTSTAMP:20260426T004046
CREATED:20240830T121201Z
LAST-MODIFIED:20240830T121201Z
UID:967-1727100000-1727107200@cottesmorevillagehall.org
SUMMARY:Table Tennis
DESCRIPTION:
URL:https://cottesmorevillagehall.org/event/table-tennis-78/
END:VEVENT
BEGIN:VEVENT
DTSTART;TZID=Europe/London:20240923T093000
DTEND;TZID=Europe/London:20240923T104500
DTSTAMP:20260426T004046
CREATED:20240830T121229Z
LAST-MODIFIED:20240830T121229Z
UID:969-1727083800-1727088300@cottesmorevillagehall.org
SUMMARY:Yoga
DESCRIPTION:
URL:https://cottesmorevillagehall.org/event/yoga-42/
END:VEVENT
BEGIN:VEVENT
DTSTART;TZID=Europe/London:20240921T150000
DTEND;TZID=Europe/London:20240921T170000
DTSTAMP:20260426T004046
CREATED:20240830T110505Z
LAST-MODIFIED:20240830T110505Z
UID:963-1726930800-1726938000@cottesmorevillagehall.org
SUMMARY:Rainbows
DESCRIPTION:
URL:https://cottesmorevillagehall.org/event/rainbows-5/
END:VEVENT
BEGIN:VEVENT
DTSTART;TZID=Europe/London:20240921T110000
DTEND;TZID=Europe/London:20240921T130000
DTSTAMP:20260426T004046
CREATED:20240910T092717Z
LAST-MODIFIED:20240910T092717Z
UID:1009-1726916400-1726923600@cottesmorevillagehall.org
SUMMARY:Pickle Ball
DESCRIPTION:
URL:https://cottesmorevillagehall.org/event/pickle-ball-6/
END:VEVENT
BEGIN:VEVENT
DTSTART;TZID=Europe/London:20240921T093000
DTEND;TZID=Europe/London:20240921T104500
DTSTAMP:20260426T004046
CREATED:20240830T110544Z
LAST-MODIFIED:20240830T110544Z
UID:965-1726911000-1726915500@cottesmorevillagehall.org
SUMMARY:Yoga
DESCRIPTION:
URL:https://cottesmorevillagehall.org/event/yoga-41/
END:VEVENT
BEGIN:VEVENT
DTSTART;TZID=Europe/London:20240920T140000
DTEND;TZID=Europe/London:20240920T160000
DTSTAMP:20260426T004046
CREATED:20240830T110337Z
LAST-MODIFIED:20240830T110337Z
UID:959-1726840800-1726848000@cottesmorevillagehall.org
SUMMARY:Table Tennis
DESCRIPTION:
URL:https://cottesmorevillagehall.org/event/table-tennis-77/
END:VEVENT
BEGIN:VEVENT
DTSTART;TZID=Europe/London:20240920T090000
DTEND;TZID=Europe/London:20240920T133000
DTSTAMP:20260426T004046
CREATED:20240830T110422Z
LAST-MODIFIED:20240830T110422Z
UID:961-1726822800-1726839000@cottesmorevillagehall.org
SUMMARY:Lavender Mill
DESCRIPTION:Village hall
URL:https://cottesmorevillagehall.org/event/lavender-mill-17/
END:VEVENT
BEGIN:VEVENT
DTSTART;VALUE=DATE:20240920
DTEND;VALUE=DATE:20240921
DTSTAMP:20260426T004046
CREATED:20240830T110050Z
LAST-MODIFIED:20240830T110303Z
UID:953-1726790400-1726876799@cottesmorevillagehall.org
SUMMARY:Lavender Mill
DESCRIPTION:McNeills Bar
URL:https://cottesmorevillagehall.org/event/lavender-mill-16/
END:VEVENT
BEGIN:VEVENT
DTSTART;TZID=Europe/London:20240919T183000
DTEND;TZID=Europe/London:20240919T193000
DTSTAMP:20260426T004046
CREATED:20240830T105926Z
LAST-MODIFIED:20240830T105926Z
UID:949-1726770600-1726774200@cottesmorevillagehall.org
SUMMARY:Brownies
DESCRIPTION:
URL:https://cottesmorevillagehall.org/event/brownies-13/
END:VEVENT
BEGIN:VEVENT
DTSTART;TZID=Europe/London:20240919T133000
DTEND;TZID=Europe/London:20240919T143000
DTSTAMP:20260426T004046
CREATED:20240830T110011Z
LAST-MODIFIED:20240830T110011Z
UID:951-1726752600-1726756200@cottesmorevillagehall.org
SUMMARY:Tai Chi
DESCRIPTION:
URL:https://cottesmorevillagehall.org/event/tai-chi-40/
END:VEVENT
END:VCALENDAR