BEGIN:VCALENDAR
VERSION:2.0
PRODID:-//Cottesmore Village Hall - ECPv6.15.20//NONSGML v1.0//EN
CALSCALE:GREGORIAN
METHOD:PUBLISH
X-WR-CALNAME:Cottesmore Village Hall
X-ORIGINAL-URL:https://cottesmorevillagehall.org
X-WR-CALDESC:Events for Cottesmore Village Hall
REFRESH-INTERVAL;VALUE=DURATION:PT1H
X-Robots-Tag:noindex
X-PUBLISHED-TTL:PT1H
BEGIN:VTIMEZONE
TZID:Europe/London
BEGIN:DAYLIGHT
TZOFFSETFROM:+0000
TZOFFSETTO:+0100
TZNAME:BST
DTSTART:20230326T010000
END:DAYLIGHT
BEGIN:STANDARD
TZOFFSETFROM:+0100
TZOFFSETTO:+0000
TZNAME:GMT
DTSTART:20231029T010000
END:STANDARD
BEGIN:DAYLIGHT
TZOFFSETFROM:+0000
TZOFFSETTO:+0100
TZNAME:BST
DTSTART:20240331T010000
END:DAYLIGHT
BEGIN:STANDARD
TZOFFSETFROM:+0100
TZOFFSETTO:+0000
TZNAME:GMT
DTSTART:20241027T010000
END:STANDARD
BEGIN:DAYLIGHT
TZOFFSETFROM:+0000
TZOFFSETTO:+0100
TZNAME:BST
DTSTART:20250330T010000
END:DAYLIGHT
BEGIN:STANDARD
TZOFFSETFROM:+0100
TZOFFSETTO:+0000
TZNAME:GMT
DTSTART:20251026T010000
END:STANDARD
END:VTIMEZONE
BEGIN:VEVENT
DTSTART;TZID=Europe/London:20241029T170000
DTEND;TZID=Europe/London:20241029T183000
DTSTAMP:20260425T135133
CREATED:20241001T140819Z
LAST-MODIFIED:20241001T140819Z
UID:1161-1730221200-1730226600@cottesmorevillagehall.org
SUMMARY:Children's Karate
DESCRIPTION:
URL:https://cottesmorevillagehall.org/event/childrens-karate-25/
END:VEVENT
BEGIN:VEVENT
DTSTART;TZID=Europe/London:20241029T090000
DTEND;TZID=Europe/London:20241029T170000
DTSTAMP:20260425T135133
CREATED:20241001T140850Z
LAST-MODIFIED:20241001T140850Z
UID:1163-1730192400-1730221200@cottesmorevillagehall.org
SUMMARY:Lavender Mill
DESCRIPTION:Including McNeill’s bar
URL:https://cottesmorevillagehall.org/event/lavender-mill-40/
END:VEVENT
BEGIN:VEVENT
DTSTART;TZID=Europe/London:20241028T190000
DTEND;TZID=Europe/London:20241028T210000
DTSTAMP:20260425T135133
CREATED:20241001T140540Z
LAST-MODIFIED:20241001T140540Z
UID:1155-1730142000-1730149200@cottesmorevillagehall.org
SUMMARY:Liaison meeting
DESCRIPTION:Up stairs in the meeting room
URL:https://cottesmorevillagehall.org/event/liaison-meeting-2/
END:VEVENT
BEGIN:VEVENT
DTSTART;TZID=Europe/London:20241028T140000
DTEND;TZID=Europe/London:20241028T160000
DTSTAMP:20260425T135133
CREATED:20241001T140617Z
LAST-MODIFIED:20241001T140617Z
UID:1157-1730124000-1730131200@cottesmorevillagehall.org
SUMMARY:Table tennis
DESCRIPTION:
URL:https://cottesmorevillagehall.org/event/table-tennis-91/
END:VEVENT
BEGIN:VEVENT
DTSTART;TZID=Europe/London:20241028T093000
DTEND;TZID=Europe/London:20241028T103000
DTSTAMP:20260425T135133
CREATED:20241001T140725Z
LAST-MODIFIED:20241001T140725Z
UID:1159-1730107800-1730111400@cottesmorevillagehall.org
SUMMARY:Yoga
DESCRIPTION:
URL:https://cottesmorevillagehall.org/event/yoga-51/
END:VEVENT
BEGIN:VEVENT
DTSTART;TZID=Europe/London:20241027T150000
DTEND;TZID=Europe/London:20241027T170000
DTSTAMP:20260425T135133
CREATED:20241001T140301Z
LAST-MODIFIED:20241001T140407Z
UID:1152-1730041200-1730048400@cottesmorevillagehall.org
SUMMARY:Bingo
DESCRIPTION:
URL:https://cottesmorevillagehall.org/event/bingo-7/
END:VEVENT
BEGIN:VEVENT
DTSTART;TZID=Europe/London:20241026T120000
DTEND;TZID=Europe/London:20241026T170000
DTSTAMP:20260425T135133
CREATED:20241001T140152Z
LAST-MODIFIED:20241001T140152Z
UID:1148-1729944000-1729962000@cottesmorevillagehall.org
SUMMARY:Private Party
DESCRIPTION:
URL:https://cottesmorevillagehall.org/event/private-party-3/
END:VEVENT
BEGIN:VEVENT
DTSTART;TZID=Europe/London:20241026T093000
DTEND;TZID=Europe/London:20241026T103000
DTSTAMP:20260425T135133
CREATED:20241001T140222Z
LAST-MODIFIED:20241001T140222Z
UID:1150-1729935000-1729938600@cottesmorevillagehall.org
SUMMARY:Yoga
DESCRIPTION:
URL:https://cottesmorevillagehall.org/event/yoga-50/
END:VEVENT
BEGIN:VEVENT
DTSTART;TZID=Europe/London:20241025T180000
DTEND;TZID=Europe/London:20241025T230000
DTSTAMP:20260425T135133
CREATED:20241001T135946Z
LAST-MODIFIED:20241001T135946Z
UID:1142-1729879200-1729897200@cottesmorevillagehall.org
SUMMARY:Quiz and pie night
DESCRIPTION:McNeill’s Bar
URL:https://cottesmorevillagehall.org/event/quiz-and-pie-night/
END:VEVENT
BEGIN:VEVENT
DTSTART;TZID=Europe/London:20241025T140000
DTEND;TZID=Europe/London:20241025T160000
DTSTAMP:20260425T135133
CREATED:20241001T140058Z
LAST-MODIFIED:20241001T140058Z
UID:1146-1729864800-1729872000@cottesmorevillagehall.org
SUMMARY:Table tennis
DESCRIPTION:
URL:https://cottesmorevillagehall.org/event/table-tennis-90/
END:VEVENT
BEGIN:VEVENT
DTSTART;TZID=Europe/London:20241025T090000
DTEND;TZID=Europe/London:20241025T170000
DTSTAMP:20260425T135133
CREATED:20241001T140017Z
LAST-MODIFIED:20241001T140017Z
UID:1144-1729846800-1729875600@cottesmorevillagehall.org
SUMMARY:Lavender Mill
DESCRIPTION:Including McNeill’s bar
URL:https://cottesmorevillagehall.org/event/lavender-mill-39/
END:VEVENT
BEGIN:VEVENT
DTSTART;TZID=Europe/London:20241024T103000
DTEND;TZID=Europe/London:20241024T123000
DTSTAMP:20260425T135133
CREATED:20241001T135805Z
LAST-MODIFIED:20241001T135805Z
UID:1140-1729765800-1729773000@cottesmorevillagehall.org
SUMMARY:Pickle Ball
DESCRIPTION:
URL:https://cottesmorevillagehall.org/event/pickle-ball-14/
END:VEVENT
BEGIN:VEVENT
DTSTART;TZID=Europe/London:20241023T190000
DTEND;TZID=Europe/London:20241023T213000
DTSTAMP:20260425T135133
CREATED:20241001T135652Z
LAST-MODIFIED:20241001T135652Z
UID:1136-1729710000-1729719000@cottesmorevillagehall.org
SUMMARY:Bowls
DESCRIPTION:
URL:https://cottesmorevillagehall.org/event/bowls-6/
END:VEVENT
BEGIN:VEVENT
DTSTART;TZID=Europe/London:20241023T090000
DTEND;TZID=Europe/London:20241023T170000
DTSTAMP:20260425T135133
CREATED:20241001T135714Z
LAST-MODIFIED:20241001T135714Z
UID:1138-1729674000-1729702800@cottesmorevillagehall.org
SUMMARY:Lavender Mill
DESCRIPTION:Including McNeill’s bar
URL:https://cottesmorevillagehall.org/event/lavender-mill-38/
END:VEVENT
BEGIN:VEVENT
DTSTART;TZID=Europe/London:20241022T193000
DTEND;TZID=Europe/London:20241022T220000
DTSTAMP:20260425T135133
CREATED:20241001T135513Z
LAST-MODIFIED:20241001T135513Z
UID:1132-1729625400-1729634400@cottesmorevillagehall.org
SUMMARY:Film Night
DESCRIPTION:
URL:https://cottesmorevillagehall.org/event/film-night-5/
END:VEVENT
BEGIN:VEVENT
DTSTART;TZID=Europe/London:20241022T190000
DTEND;TZID=Europe/London:20241022T210000
DTSTAMP:20260425T135133
CREATED:20241001T135401Z
LAST-MODIFIED:20241001T135401Z
UID:1128-1729623600-1729630800@cottesmorevillagehall.org
SUMMARY:Darts match
DESCRIPTION:McNeills Bar
URL:https://cottesmorevillagehall.org/event/darts-match-2/
END:VEVENT
BEGIN:VEVENT
DTSTART;TZID=Europe/London:20241022T170000
DTEND;TZID=Europe/London:20241022T183000
DTSTAMP:20260425T135133
CREATED:20241001T135604Z
LAST-MODIFIED:20241001T135604Z
UID:1134-1729616400-1729621800@cottesmorevillagehall.org
SUMMARY:Children's Karate
DESCRIPTION:
URL:https://cottesmorevillagehall.org/event/childrens-karate-24/
END:VEVENT
BEGIN:VEVENT
DTSTART;TZID=Europe/London:20241022T090000
DTEND;TZID=Europe/London:20241022T170000
DTSTAMP:20260425T135133
CREATED:20241001T135426Z
LAST-MODIFIED:20241001T135426Z
UID:1130-1729587600-1729616400@cottesmorevillagehall.org
SUMMARY:Lavender Mill
DESCRIPTION:Including McNeill’s bar
URL:https://cottesmorevillagehall.org/event/lavender-mill-37/
END:VEVENT
BEGIN:VEVENT
DTSTART;TZID=Europe/London:20241021T190000
DTEND;TZID=Europe/London:20241021T210000
DTSTAMP:20260425T135133
CREATED:20241001T135117Z
LAST-MODIFIED:20241001T135117Z
UID:1122-1729537200-1729544400@cottesmorevillagehall.org
SUMMARY:Parish Council Meeting
DESCRIPTION:In the meeting room
URL:https://cottesmorevillagehall.org/event/parish-council-meeting-7/
END:VEVENT
BEGIN:VEVENT
DTSTART;TZID=Europe/London:20241021T140000
DTEND;TZID=Europe/London:20241021T160000
DTSTAMP:20260425T135133
CREATED:20241001T135214Z
LAST-MODIFIED:20241001T135214Z
UID:1124-1729519200-1729526400@cottesmorevillagehall.org
SUMMARY:Table Tennis
DESCRIPTION:
URL:https://cottesmorevillagehall.org/event/table-tennis-89/
END:VEVENT
BEGIN:VEVENT
DTSTART;TZID=Europe/London:20241021T093000
DTEND;TZID=Europe/London:20241021T103000
DTSTAMP:20260425T135133
CREATED:20241001T135300Z
LAST-MODIFIED:20241001T135300Z
UID:1126-1729503000-1729506600@cottesmorevillagehall.org
SUMMARY:Yoga
DESCRIPTION:
URL:https://cottesmorevillagehall.org/event/yoga-49/
END:VEVENT
BEGIN:VEVENT
DTSTART;TZID=Europe/London:20241020T123000
DTEND;TZID=Europe/London:20241020T163000
DTSTAMP:20260425T135133
CREATED:20241001T134636Z
LAST-MODIFIED:20241001T134636Z
UID:1118-1729427400-1729441800@cottesmorevillagehall.org
SUMMARY:Private Party
DESCRIPTION:
URL:https://cottesmorevillagehall.org/event/private-party/
END:VEVENT
BEGIN:VEVENT
DTSTART;TZID=Europe/London:20241019T110000
DTEND;TZID=Europe/London:20241019T140000
DTSTAMP:20260425T135133
CREATED:20241001T134340Z
LAST-MODIFIED:20241001T134340Z
UID:1114-1729335600-1729346400@cottesmorevillagehall.org
SUMMARY:Pickle Ball
DESCRIPTION:
URL:https://cottesmorevillagehall.org/event/pickle-ball-13/
END:VEVENT
BEGIN:VEVENT
DTSTART;TZID=Europe/London:20241019T093000
DTEND;TZID=Europe/London:20241019T103000
DTSTAMP:20260425T135133
CREATED:20241001T134407Z
LAST-MODIFIED:20241001T134407Z
UID:1116-1729330200-1729333800@cottesmorevillagehall.org
SUMMARY:Yoga
DESCRIPTION:
URL:https://cottesmorevillagehall.org/event/yoga-48/
END:VEVENT
BEGIN:VEVENT
DTSTART;TZID=Europe/London:20241018T140000
DTEND;TZID=Europe/London:20241018T160000
DTSTAMP:20260425T135133
CREATED:20241001T134252Z
LAST-MODIFIED:20241001T134252Z
UID:1112-1729260000-1729267200@cottesmorevillagehall.org
SUMMARY:Table tennis
DESCRIPTION:
URL:https://cottesmorevillagehall.org/event/table-tennis-88/
END:VEVENT
BEGIN:VEVENT
DTSTART;TZID=Europe/London:20241017T180000
DTEND;TZID=Europe/London:20241017T193000
DTSTAMP:20260425T135133
CREATED:20241001T133756Z
LAST-MODIFIED:20241001T133756Z
UID:1104-1729188000-1729193400@cottesmorevillagehall.org
SUMMARY:Bownies
DESCRIPTION:
URL:https://cottesmorevillagehall.org/event/bownies/
END:VEVENT
BEGIN:VEVENT
DTSTART;TZID=Europe/London:20241017T133000
DTEND;TZID=Europe/London:20241017T143000
DTSTAMP:20260425T135133
CREATED:20241001T133832Z
LAST-MODIFIED:20241001T133832Z
UID:1106-1729171800-1729175400@cottesmorevillagehall.org
SUMMARY:Tai Chi
DESCRIPTION:
URL:https://cottesmorevillagehall.org/event/tai-chi-47/
END:VEVENT
BEGIN:VEVENT
DTSTART;TZID=Europe/London:20241017T103000
DTEND;TZID=Europe/London:20241017T123000
DTSTAMP:20260425T135133
CREATED:20241001T133912Z
LAST-MODIFIED:20241001T133912Z
UID:1108-1729161000-1729168200@cottesmorevillagehall.org
SUMMARY:Pickle Ball
DESCRIPTION:
URL:https://cottesmorevillagehall.org/event/pickle-ball-12/
END:VEVENT
BEGIN:VEVENT
DTSTART;TZID=Europe/London:20241016T190000
DTEND;TZID=Europe/London:20241016T213000
DTSTAMP:20260425T135133
CREATED:20241001T133550Z
LAST-MODIFIED:20241001T133550Z
UID:1100-1729105200-1729114200@cottesmorevillagehall.org
SUMMARY:Bowls
DESCRIPTION:
URL:https://cottesmorevillagehall.org/event/bowls-5/
END:VEVENT
BEGIN:VEVENT
DTSTART;TZID=Europe/London:20241016T190000
DTEND;TZID=Europe/London:20241016T210000
DTSTAMP:20260425T135133
CREATED:20241001T133504Z
LAST-MODIFIED:20241001T133504Z
UID:1098-1729105200-1729112400@cottesmorevillagehall.org
SUMMARY:Investment Club
DESCRIPTION:In the meeting room
URL:https://cottesmorevillagehall.org/event/investment-club-6/
END:VEVENT
END:VCALENDAR