BEGIN:VCALENDAR
VERSION:2.0
PRODID:-//Cottesmore Village Hall - ECPv6.15.20//NONSGML v1.0//EN
CALSCALE:GREGORIAN
METHOD:PUBLISH
X-WR-CALNAME:Cottesmore Village Hall
X-ORIGINAL-URL:https://cottesmorevillagehall.org
X-WR-CALDESC:Events for Cottesmore Village Hall
REFRESH-INTERVAL;VALUE=DURATION:PT1H
X-Robots-Tag:noindex
X-PUBLISHED-TTL:PT1H
BEGIN:VTIMEZONE
TZID:Europe/London
BEGIN:DAYLIGHT
TZOFFSETFROM:+0000
TZOFFSETTO:+0100
TZNAME:BST
DTSTART:20250330T010000
END:DAYLIGHT
BEGIN:STANDARD
TZOFFSETFROM:+0100
TZOFFSETTO:+0000
TZNAME:GMT
DTSTART:20251026T010000
END:STANDARD
BEGIN:DAYLIGHT
TZOFFSETFROM:+0000
TZOFFSETTO:+0100
TZNAME:BST
DTSTART:20260329T010000
END:DAYLIGHT
BEGIN:STANDARD
TZOFFSETFROM:+0100
TZOFFSETTO:+0000
TZNAME:GMT
DTSTART:20261025T010000
END:STANDARD
BEGIN:DAYLIGHT
TZOFFSETFROM:+0000
TZOFFSETTO:+0100
TZNAME:BST
DTSTART:20270328T010000
END:DAYLIGHT
BEGIN:STANDARD
TZOFFSETFROM:+0100
TZOFFSETTO:+0000
TZNAME:GMT
DTSTART:20271031T010000
END:STANDARD
END:VTIMEZONE
BEGIN:VEVENT
DTSTART;TZID=Europe/London:20260523T110000
DTEND;TZID=Europe/London:20260523T140000
DTSTAMP:20260424T134644
CREATED:20260423T114149Z
LAST-MODIFIED:20260423T114149Z
UID:4038-1779534000-1779544800@cottesmorevillagehall.org
SUMMARY:Pickleball
DESCRIPTION:
URL:https://cottesmorevillagehall.org/event/pickleball-190/
END:VEVENT
BEGIN:VEVENT
DTSTART;TZID=Europe/London:20260525T093000
DTEND;TZID=Europe/London:20260525T103000
DTSTAMP:20260424T134644
CREATED:20260423T114221Z
LAST-MODIFIED:20260423T114221Z
UID:4040-1779701400-1779705000@cottesmorevillagehall.org
SUMMARY:Yoga
DESCRIPTION:
URL:https://cottesmorevillagehall.org/event/yoga-185/
END:VEVENT
BEGIN:VEVENT
DTSTART;TZID=Europe/London:20260525T140000
DTEND;TZID=Europe/London:20260525T160000
DTSTAMP:20260424T134644
CREATED:20260423T114032Z
LAST-MODIFIED:20260423T114422Z
UID:4034-1779717600-1779724800@cottesmorevillagehall.org
SUMMARY:Table Tennis
DESCRIPTION:
URL:https://cottesmorevillagehall.org/event/table-tennis-312/
END:VEVENT
BEGIN:VEVENT
DTSTART;VALUE=DATE:20260526
DTEND;VALUE=DATE:20260527
DTSTAMP:20260424T134644
CREATED:20260423T114340Z
LAST-MODIFIED:20260423T114340Z
UID:4044-1779753600-1779839999@cottesmorevillagehall.org
SUMMARY:Lavender Mill
DESCRIPTION:
URL:https://cottesmorevillagehall.org/event/lavender-mill-262/
END:VEVENT
BEGIN:VEVENT
DTSTART;TZID=Europe/London:20260526T133000
DTEND;TZID=Europe/London:20260526T143000
DTSTAMP:20260424T134644
CREATED:20260423T114524Z
LAST-MODIFIED:20260423T114524Z
UID:4046-1779802200-1779805800@cottesmorevillagehall.org
SUMMARY:Tai Chi
DESCRIPTION:
URL:https://cottesmorevillagehall.org/event/tai-chi-170/
END:VEVENT
BEGIN:VEVENT
DTSTART;TZID=Europe/London:20260526T163000
DTEND;TZID=Europe/London:20260526T183000
DTSTAMP:20260424T134644
CREATED:20260423T114559Z
LAST-MODIFIED:20260423T114559Z
UID:4048-1779813000-1779820200@cottesmorevillagehall.org
SUMMARY:Children's Karate
DESCRIPTION:
URL:https://cottesmorevillagehall.org/event/childrens-karate-99/
END:VEVENT
BEGIN:VEVENT
DTSTART;TZID=Europe/London:20260526T193000
DTEND;TZID=Europe/London:20260526T213000
DTSTAMP:20260424T134644
CREATED:20260423T114631Z
LAST-MODIFIED:20260423T114631Z
UID:4050-1779823800-1779831000@cottesmorevillagehall.org
SUMMARY:Lindy Hop
DESCRIPTION:
URL:https://cottesmorevillagehall.org/event/lindy-hop-52/
END:VEVENT
BEGIN:VEVENT
DTSTART;VALUE=DATE:20260527
DTEND;VALUE=DATE:20260528
DTSTAMP:20260424T134644
CREATED:20260423T114706Z
LAST-MODIFIED:20260423T114706Z
UID:4052-1779840000-1779926399@cottesmorevillagehall.org
SUMMARY:Lavender Mill
DESCRIPTION:
URL:https://cottesmorevillagehall.org/event/lavender-mill-263/
END:VEVENT
BEGIN:VEVENT
DTSTART;TZID=Europe/London:20260527T080000
DTEND;TZID=Europe/London:20260527T170000
DTSTAMP:20260424T134644
CREATED:20260423T114732Z
LAST-MODIFIED:20260423T114732Z
UID:4054-1779868800-1779901200@cottesmorevillagehall.org
SUMMARY:Table Tennis
DESCRIPTION:
URL:https://cottesmorevillagehall.org/event/table-tennis-314/
END:VEVENT
BEGIN:VEVENT
DTSTART;TZID=Europe/London:20260528T093000
DTEND;TZID=Europe/London:20260528T123000
DTSTAMP:20260424T134644
CREATED:20260423T114815Z
LAST-MODIFIED:20260423T114815Z
UID:4056-1779960600-1779971400@cottesmorevillagehall.org
SUMMARY:Pickleball
DESCRIPTION:
URL:https://cottesmorevillagehall.org/event/pickleball-191/
END:VEVENT
BEGIN:VEVENT
DTSTART;TZID=Europe/London:20260528T133000
DTEND;TZID=Europe/London:20260528T143000
DTSTAMP:20260424T134644
CREATED:20260423T114844Z
LAST-MODIFIED:20260423T114844Z
UID:4058-1779975000-1779978600@cottesmorevillagehall.org
SUMMARY:Tai Chi
DESCRIPTION:
URL:https://cottesmorevillagehall.org/event/tai-chi-171/
END:VEVENT
BEGIN:VEVENT
DTSTART;TZID=Europe/London:20260528T150000
DTEND;TZID=Europe/London:20260528T170000
DTSTAMP:20260424T134644
CREATED:20260423T114915Z
LAST-MODIFIED:20260423T114915Z
UID:4060-1779980400-1779987600@cottesmorevillagehall.org
SUMMARY:Pickleball
DESCRIPTION:
URL:https://cottesmorevillagehall.org/event/pickleball-192/
END:VEVENT
BEGIN:VEVENT
DTSTART;VALUE=DATE:20260529
DTEND;VALUE=DATE:20260530
DTSTAMP:20260424T134644
CREATED:20260423T114937Z
LAST-MODIFIED:20260423T114937Z
UID:4062-1780012800-1780099199@cottesmorevillagehall.org
SUMMARY:Lavender Mill
DESCRIPTION:
URL:https://cottesmorevillagehall.org/event/lavender-mill-264/
END:VEVENT
BEGIN:VEVENT
DTSTART;TZID=Europe/London:20260529T140000
DTEND;TZID=Europe/London:20260529T160000
DTSTAMP:20260424T134644
CREATED:20260423T115010Z
LAST-MODIFIED:20260423T115010Z
UID:4064-1780063200-1780070400@cottesmorevillagehall.org
SUMMARY:Table tennis
DESCRIPTION:
URL:https://cottesmorevillagehall.org/event/table-tennis-315/
END:VEVENT
BEGIN:VEVENT
DTSTART;TZID=Europe/London:20260530T093000
DTEND;TZID=Europe/London:20260530T103000
DTSTAMP:20260424T134644
CREATED:20260423T115039Z
LAST-MODIFIED:20260423T115039Z
UID:4066-1780133400-1780137000@cottesmorevillagehall.org
SUMMARY:Yoga
DESCRIPTION:
URL:https://cottesmorevillagehall.org/event/yoga-186/
END:VEVENT
BEGIN:VEVENT
DTSTART;TZID=Europe/London:20260530T110000
DTEND;TZID=Europe/London:20260530T140000
DTSTAMP:20260424T134644
CREATED:20260423T115113Z
LAST-MODIFIED:20260423T115113Z
UID:4068-1780138800-1780149600@cottesmorevillagehall.org
SUMMARY:Pickleball
DESCRIPTION:
URL:https://cottesmorevillagehall.org/event/pickleball-193/
END:VEVENT
END:VCALENDAR