BEGIN:VCALENDAR
VERSION:2.0
PRODID:-//Cottesmore Village Hall - ECPv6.15.20//NONSGML v1.0//EN
CALSCALE:GREGORIAN
METHOD:PUBLISH
X-WR-CALNAME:Cottesmore Village Hall
X-ORIGINAL-URL:https://cottesmorevillagehall.org
X-WR-CALDESC:Events for Cottesmore Village Hall
REFRESH-INTERVAL;VALUE=DURATION:PT1H
X-Robots-Tag:noindex
X-PUBLISHED-TTL:PT1H
BEGIN:VTIMEZONE
TZID:Europe/London
BEGIN:DAYLIGHT
TZOFFSETFROM:+0000
TZOFFSETTO:+0100
TZNAME:BST
DTSTART:20230326T010000
END:DAYLIGHT
BEGIN:STANDARD
TZOFFSETFROM:+0100
TZOFFSETTO:+0000
TZNAME:GMT
DTSTART:20231029T010000
END:STANDARD
BEGIN:DAYLIGHT
TZOFFSETFROM:+0000
TZOFFSETTO:+0100
TZNAME:BST
DTSTART:20240331T010000
END:DAYLIGHT
BEGIN:STANDARD
TZOFFSETFROM:+0100
TZOFFSETTO:+0000
TZNAME:GMT
DTSTART:20241027T010000
END:STANDARD
BEGIN:DAYLIGHT
TZOFFSETFROM:+0000
TZOFFSETTO:+0100
TZNAME:BST
DTSTART:20250330T010000
END:DAYLIGHT
BEGIN:STANDARD
TZOFFSETFROM:+0100
TZOFFSETTO:+0000
TZNAME:GMT
DTSTART:20251026T010000
END:STANDARD
END:VTIMEZONE
BEGIN:VEVENT
DTSTART;TZID=Europe/London:20241124T090000
DTEND;TZID=Europe/London:20241124T120000
DTSTAMP:20260425T044140
CREATED:20241106T085513Z
LAST-MODIFIED:20241106T085513Z
UID:1300-1732438800-1732449600@cottesmorevillagehall.org
SUMMARY:Children's Art Class
DESCRIPTION:
URL:https://cottesmorevillagehall.org/event/childrens-art-class-4/
END:VEVENT
BEGIN:VEVENT
DTSTART;TZID=Europe/London:20241123T110000
DTEND;TZID=Europe/London:20241123T140000
DTSTAMP:20260425T044140
CREATED:20241106T085340Z
LAST-MODIFIED:20241106T085340Z
UID:1296-1732359600-1732370400@cottesmorevillagehall.org
SUMMARY:Pickleball
DESCRIPTION:
URL:https://cottesmorevillagehall.org/event/pickleball-27/
END:VEVENT
BEGIN:VEVENT
DTSTART;TZID=Europe/London:20241123T093000
DTEND;TZID=Europe/London:20241123T223000
DTSTAMP:20260425T044140
CREATED:20241106T085411Z
LAST-MODIFIED:20241106T085411Z
UID:1298-1732354200-1732401000@cottesmorevillagehall.org
SUMMARY:Yoga
DESCRIPTION:
URL:https://cottesmorevillagehall.org/event/yoga-57/
END:VEVENT
BEGIN:VEVENT
DTSTART;TZID=Europe/London:20241122T140000
DTEND;TZID=Europe/London:20241122T160000
DTSTAMP:20260425T044140
CREATED:20241106T085250Z
LAST-MODIFIED:20241106T085250Z
UID:1294-1732284000-1732291200@cottesmorevillagehall.org
SUMMARY:Table Tennis
DESCRIPTION:
URL:https://cottesmorevillagehall.org/event/table-tennis-101/
END:VEVENT
BEGIN:VEVENT
DTSTART;VALUE=DATE:20241122
DTEND;VALUE=DATE:20241123
DTSTAMP:20260425T044140
CREATED:20241106T085219Z
LAST-MODIFIED:20241106T085219Z
UID:1292-1732233600-1732319999@cottesmorevillagehall.org
SUMMARY:Lavender Mill
DESCRIPTION:
URL:https://cottesmorevillagehall.org/event/lavender-mill-50/
END:VEVENT
BEGIN:VEVENT
DTSTART;TZID=Europe/London:20241121T180000
DTEND;TZID=Europe/London:20241121T193000
DTSTAMP:20260425T044140
CREATED:20241106T085035Z
LAST-MODIFIED:20241106T085035Z
UID:1286-1732212000-1732217400@cottesmorevillagehall.org
SUMMARY:Brownies
DESCRIPTION:
URL:https://cottesmorevillagehall.org/event/brownies-18/
END:VEVENT
BEGIN:VEVENT
DTSTART;TZID=Europe/London:20241121T133000
DTEND;TZID=Europe/London:20241121T143000
DTSTAMP:20260425T044140
CREATED:20241106T085113Z
LAST-MODIFIED:20241106T085113Z
UID:1288-1732195800-1732199400@cottesmorevillagehall.org
SUMMARY:Tai Chi
DESCRIPTION:
URL:https://cottesmorevillagehall.org/event/tai-chi-53/
END:VEVENT
BEGIN:VEVENT
DTSTART;TZID=Europe/London:20241121T103000
DTEND;TZID=Europe/London:20241121T123000
DTSTAMP:20260425T044140
CREATED:20241106T085151Z
LAST-MODIFIED:20241106T085151Z
UID:1290-1732185000-1732192200@cottesmorevillagehall.org
SUMMARY:Pickleball
DESCRIPTION:
URL:https://cottesmorevillagehall.org/event/pickleball-26/
END:VEVENT
BEGIN:VEVENT
DTSTART;TZID=Europe/London:20241120T190000
DTEND;TZID=Europe/London:20241120T213000
DTSTAMP:20260425T044140
CREATED:20241106T084928Z
LAST-MODIFIED:20241106T084928Z
UID:1282-1732129200-1732138200@cottesmorevillagehall.org
SUMMARY:Bowles
DESCRIPTION:
URL:https://cottesmorevillagehall.org/event/bowles-2/
END:VEVENT
BEGIN:VEVENT
DTSTART;TZID=Europe/London:20241120T190000
DTEND;TZID=Europe/London:20241120T210000
DTSTAMP:20260425T044140
CREATED:20241106T084851Z
LAST-MODIFIED:20241106T090831Z
UID:1280-1732129200-1732136400@cottesmorevillagehall.org
SUMMARY:Investment club
DESCRIPTION:Upstairs in the meeting room
URL:https://cottesmorevillagehall.org/event/investment-club-7/
END:VEVENT
BEGIN:VEVENT
DTSTART;TZID=Europe/London:20241120T140000
DTEND;TZID=Europe/London:20241120T160000
DTSTAMP:20260425T044140
CREATED:20241106T084955Z
LAST-MODIFIED:20241106T084955Z
UID:1284-1732111200-1732118400@cottesmorevillagehall.org
SUMMARY:Table Tennis
DESCRIPTION:
URL:https://cottesmorevillagehall.org/event/table-tennis-100/
END:VEVENT
BEGIN:VEVENT
DTSTART;VALUE=DATE:20241120
DTEND;VALUE=DATE:20241121
DTSTAMP:20260425T044140
CREATED:20241106T084802Z
LAST-MODIFIED:20241106T084802Z
UID:1278-1732060800-1732147199@cottesmorevillagehall.org
SUMMARY:Lavender Mill
DESCRIPTION:
URL:https://cottesmorevillagehall.org/event/lavender-mill-49/
END:VEVENT
BEGIN:VEVENT
DTSTART;TZID=Europe/London:20241119T170000
DTEND;TZID=Europe/London:20241119T183000
DTSTAMP:20260425T044140
CREATED:20241106T084653Z
LAST-MODIFIED:20241106T084653Z
UID:1274-1732035600-1732041000@cottesmorevillagehall.org
SUMMARY:Children's Karate
DESCRIPTION:
URL:https://cottesmorevillagehall.org/event/childrens-karate-28/
END:VEVENT
BEGIN:VEVENT
DTSTART;TZID=Europe/London:20241119T133000
DTEND;TZID=Europe/London:20241119T143000
DTSTAMP:20260425T044140
CREATED:20241106T084734Z
LAST-MODIFIED:20241106T084734Z
UID:1276-1732023000-1732026600@cottesmorevillagehall.org
SUMMARY:Tai Chi
DESCRIPTION:
URL:https://cottesmorevillagehall.org/event/tai-chi-52/
END:VEVENT
BEGIN:VEVENT
DTSTART;TZID=Europe/London:20241119T073000
DTEND;TZID=Europe/London:20241119T213000
DTSTAMP:20260425T044140
CREATED:20241106T084605Z
LAST-MODIFIED:20241106T084605Z
UID:1272-1732001400-1732051800@cottesmorevillagehall.org
SUMMARY:Film Night
DESCRIPTION:
URL:https://cottesmorevillagehall.org/event/film-night-6/
END:VEVENT
BEGIN:VEVENT
DTSTART;VALUE=DATE:20241119
DTEND;VALUE=DATE:20241120
DTSTAMP:20260425T044140
CREATED:20241106T084526Z
LAST-MODIFIED:20241106T084526Z
UID:1270-1731974400-1732060799@cottesmorevillagehall.org
SUMMARY:Lavender Mill
DESCRIPTION:
URL:https://cottesmorevillagehall.org/event/lavender-mill-48/
END:VEVENT
BEGIN:VEVENT
DTSTART;TZID=Europe/London:20241118T193000
DTEND;TZID=Europe/London:20241118T213000
DTSTAMP:20260425T044140
CREATED:20241103T143322Z
LAST-MODIFIED:20241103T143322Z
UID:1264-1731958200-1731965400@cottesmorevillagehall.org
SUMMARY:Parish Council Meeting
DESCRIPTION:Upstairs meeting room
URL:https://cottesmorevillagehall.org/event/parish-council-meeting-8/
END:VEVENT
BEGIN:VEVENT
DTSTART;TZID=Europe/London:20241118T140000
DTEND;TZID=Europe/London:20241118T160000
DTSTAMP:20260425T044140
CREATED:20241103T143353Z
LAST-MODIFIED:20241103T143353Z
UID:1266-1731938400-1731945600@cottesmorevillagehall.org
SUMMARY:Table Tennis
DESCRIPTION:
URL:https://cottesmorevillagehall.org/event/table-tennis-99/
END:VEVENT
BEGIN:VEVENT
DTSTART;TZID=Europe/London:20241118T093000
DTEND;TZID=Europe/London:20241118T103000
DTSTAMP:20260425T044140
CREATED:20241103T143426Z
LAST-MODIFIED:20241103T143426Z
UID:1268-1731922200-1731925800@cottesmorevillagehall.org
SUMMARY:Yoga
DESCRIPTION:
URL:https://cottesmorevillagehall.org/event/yoga-56/
END:VEVENT
BEGIN:VEVENT
DTSTART;TZID=Europe/London:20241117T150000
DTEND;TZID=Europe/London:20241117T170000
DTSTAMP:20260425T044140
CREATED:20241103T143145Z
LAST-MODIFIED:20241103T143145Z
UID:1262-1731855600-1731862800@cottesmorevillagehall.org
SUMMARY:Bingo
DESCRIPTION:
URL:https://cottesmorevillagehall.org/event/bingo-8/
END:VEVENT
BEGIN:VEVENT
DTSTART;TZID=Europe/London:20241116T150000
DTEND;TZID=Europe/London:20241116T170000
DTSTAMP:20260425T044140
CREATED:20241103T143000Z
LAST-MODIFIED:20241103T143000Z
UID:1256-1731769200-1731776400@cottesmorevillagehall.org
SUMMARY:Rainbows
DESCRIPTION:
URL:https://cottesmorevillagehall.org/event/rainbows-6/
END:VEVENT
BEGIN:VEVENT
DTSTART;TZID=Europe/London:20241116T110000
DTEND;TZID=Europe/London:20241116T140000
DTSTAMP:20260425T044140
CREATED:20241103T143042Z
LAST-MODIFIED:20241103T143042Z
UID:1258-1731754800-1731765600@cottesmorevillagehall.org
SUMMARY:Pickleball
DESCRIPTION:
URL:https://cottesmorevillagehall.org/event/pickleball-25/
END:VEVENT
BEGIN:VEVENT
DTSTART;TZID=Europe/London:20241116T093000
DTEND;TZID=Europe/London:20241116T103000
DTSTAMP:20260425T044140
CREATED:20241103T143111Z
LAST-MODIFIED:20241103T143111Z
UID:1260-1731749400-1731753000@cottesmorevillagehall.org
SUMMARY:Yoga
DESCRIPTION:
URL:https://cottesmorevillagehall.org/event/yoga-55/
END:VEVENT
BEGIN:VEVENT
DTSTART;TZID=Europe/London:20241115T140000
DTEND;TZID=Europe/London:20241115T160000
DTSTAMP:20260425T044140
CREATED:20241103T142056Z
LAST-MODIFIED:20241103T142056Z
UID:1254-1731679200-1731686400@cottesmorevillagehall.org
SUMMARY:Table Tennis
DESCRIPTION:
URL:https://cottesmorevillagehall.org/event/table-tennis-98/
END:VEVENT
BEGIN:VEVENT
DTSTART;VALUE=DATE:20241115
DTEND;VALUE=DATE:20241116
DTSTAMP:20260425T044140
CREATED:20241103T142027Z
LAST-MODIFIED:20241103T142027Z
UID:1252-1731628800-1731715199@cottesmorevillagehall.org
SUMMARY:Lavender Mill
DESCRIPTION:
URL:https://cottesmorevillagehall.org/event/lavender-mill-47/
END:VEVENT
BEGIN:VEVENT
DTSTART;TZID=Europe/London:20241114T180000
DTEND;TZID=Europe/London:20241114T193000
DTSTAMP:20260425T044140
CREATED:20241103T141733Z
LAST-MODIFIED:20241103T141754Z
UID:1245-1731607200-1731612600@cottesmorevillagehall.org
SUMMARY:Brownies
DESCRIPTION:
URL:https://cottesmorevillagehall.org/event/browies/
END:VEVENT
BEGIN:VEVENT
DTSTART;TZID=Europe/London:20241114T133000
DTEND;TZID=Europe/London:20241114T143000
DTSTAMP:20260425T044140
CREATED:20241103T141856Z
LAST-MODIFIED:20241103T141856Z
UID:1248-1731591000-1731594600@cottesmorevillagehall.org
SUMMARY:Tai Chi
DESCRIPTION:
URL:https://cottesmorevillagehall.org/event/tai-chi-51/
END:VEVENT
BEGIN:VEVENT
DTSTART;TZID=Europe/London:20241114T103000
DTEND;TZID=Europe/London:20241114T123000
DTSTAMP:20260425T044140
CREATED:20241103T141955Z
LAST-MODIFIED:20241103T141955Z
UID:1250-1731580200-1731587400@cottesmorevillagehall.org
SUMMARY:Pickle ball
DESCRIPTION:
URL:https://cottesmorevillagehall.org/event/pickle-ball-16/
END:VEVENT
BEGIN:VEVENT
DTSTART;TZID=Europe/London:20241113T190000
DTEND;TZID=Europe/London:20241113T213000
DTSTAMP:20260425T044140
CREATED:20241103T141509Z
LAST-MODIFIED:20241103T141509Z
UID:1241-1731524400-1731533400@cottesmorevillagehall.org
SUMMARY:Bowls
DESCRIPTION:
URL:https://cottesmorevillagehall.org/event/bowls-9/
END:VEVENT
BEGIN:VEVENT
DTSTART;TZID=Europe/London:20241113T140000
DTEND;TZID=Europe/London:20241113T160000
DTSTAMP:20260425T044140
CREATED:20241103T141628Z
LAST-MODIFIED:20241103T141628Z
UID:1243-1731506400-1731513600@cottesmorevillagehall.org
SUMMARY:Table Tennis
DESCRIPTION:
URL:https://cottesmorevillagehall.org/event/table-tennis-97/
END:VEVENT
END:VCALENDAR