BEGIN:VCALENDAR
VERSION:2.0
PRODID:-//Cottesmore Village Hall - ECPv6.15.20//NONSGML v1.0//EN
CALSCALE:GREGORIAN
METHOD:PUBLISH
X-WR-CALNAME:Cottesmore Village Hall
X-ORIGINAL-URL:https://cottesmorevillagehall.org
X-WR-CALDESC:Events for Cottesmore Village Hall
REFRESH-INTERVAL;VALUE=DURATION:PT1H
X-Robots-Tag:noindex
X-PUBLISHED-TTL:PT1H
BEGIN:VTIMEZONE
TZID:Europe/London
BEGIN:DAYLIGHT
TZOFFSETFROM:+0000
TZOFFSETTO:+0100
TZNAME:BST
DTSTART:20230326T010000
END:DAYLIGHT
BEGIN:STANDARD
TZOFFSETFROM:+0100
TZOFFSETTO:+0000
TZNAME:GMT
DTSTART:20231029T010000
END:STANDARD
BEGIN:DAYLIGHT
TZOFFSETFROM:+0000
TZOFFSETTO:+0100
TZNAME:BST
DTSTART:20240331T010000
END:DAYLIGHT
BEGIN:STANDARD
TZOFFSETFROM:+0100
TZOFFSETTO:+0000
TZNAME:GMT
DTSTART:20241027T010000
END:STANDARD
BEGIN:DAYLIGHT
TZOFFSETFROM:+0000
TZOFFSETTO:+0100
TZNAME:BST
DTSTART:20250330T010000
END:DAYLIGHT
BEGIN:STANDARD
TZOFFSETFROM:+0100
TZOFFSETTO:+0000
TZNAME:GMT
DTSTART:20251026T010000
END:STANDARD
END:VTIMEZONE
BEGIN:VEVENT
DTSTART;TZID=Europe/London:20241202T140000
DTEND;TZID=Europe/London:20241202T160000
DTSTAMP:20260425T011645
CREATED:20241130T155713Z
LAST-MODIFIED:20241130T155713Z
UID:1355-1733148000-1733155200@cottesmorevillagehall.org
SUMMARY:Table Tennis
DESCRIPTION:
URL:https://cottesmorevillagehall.org/event/table-tennis-105/
END:VEVENT
BEGIN:VEVENT
DTSTART;TZID=Europe/London:20241202T093000
DTEND;TZID=Europe/London:20241202T103000
DTSTAMP:20260425T011645
CREATED:20241130T155752Z
LAST-MODIFIED:20241130T155752Z
UID:1357-1733131800-1733135400@cottesmorevillagehall.org
SUMMARY:Yoga
DESCRIPTION:
URL:https://cottesmorevillagehall.org/event/yoga-60/
END:VEVENT
BEGIN:VEVENT
DTSTART;VALUE=DATE:20241201
DTEND;VALUE=DATE:20241202
DTSTAMP:20260425T011645
CREATED:20241130T155627Z
LAST-MODIFIED:20241130T155627Z
UID:1353-1733011200-1733097599@cottesmorevillagehall.org
SUMMARY:Christmas Market
DESCRIPTION:
URL:https://cottesmorevillagehall.org/event/christmas-market/
END:VEVENT
BEGIN:VEVENT
DTSTART;TZID=Europe/London:20241130T150000
DTEND;TZID=Europe/London:20241130T170000
DTSTAMP:20260425T011645
CREATED:20241106T090537Z
LAST-MODIFIED:20241106T090537Z
UID:1330-1732978800-1732986000@cottesmorevillagehall.org
SUMMARY:Rainbow
DESCRIPTION:
URL:https://cottesmorevillagehall.org/event/rainbow-4/
END:VEVENT
BEGIN:VEVENT
DTSTART;TZID=Europe/London:20241130T110000
DTEND;TZID=Europe/London:20241130T140000
DTSTAMP:20260425T011645
CREATED:20241106T090612Z
LAST-MODIFIED:20241106T090612Z
UID:1332-1732964400-1732975200@cottesmorevillagehall.org
SUMMARY:Pickleball
DESCRIPTION:
URL:https://cottesmorevillagehall.org/event/pickleball-29/
END:VEVENT
BEGIN:VEVENT
DTSTART;TZID=Europe/London:20241130T093000
DTEND;TZID=Europe/London:20241130T223000
DTSTAMP:20260425T011645
CREATED:20241106T090644Z
LAST-MODIFIED:20241106T090644Z
UID:1334-1732959000-1733005800@cottesmorevillagehall.org
SUMMARY:Yoga
DESCRIPTION:
URL:https://cottesmorevillagehall.org/event/yoga-59/
END:VEVENT
BEGIN:VEVENT
DTSTART;TZID=Europe/London:20241129T140000
DTEND;TZID=Europe/London:20241129T160000
DTSTAMP:20260425T011645
CREATED:20241106T090453Z
LAST-MODIFIED:20241106T090453Z
UID:1328-1732888800-1732896000@cottesmorevillagehall.org
SUMMARY:Table Tennis
DESCRIPTION:
URL:https://cottesmorevillagehall.org/event/table-tennis-104/
END:VEVENT
BEGIN:VEVENT
DTSTART;VALUE=DATE:20241129
DTEND;VALUE=DATE:20241130
DTSTAMP:20260425T011645
CREATED:20241106T090427Z
LAST-MODIFIED:20241106T090427Z
UID:1326-1732838400-1732924799@cottesmorevillagehall.org
SUMMARY:Lavender Mill
DESCRIPTION:
URL:https://cottesmorevillagehall.org/event/lavender-mill-53/
END:VEVENT
BEGIN:VEVENT
DTSTART;TZID=Europe/London:20241128T180000
DTEND;TZID=Europe/London:20241128T193000
DTSTAMP:20260425T011645
CREATED:20241106T090231Z
LAST-MODIFIED:20241106T090231Z
UID:1320-1732816800-1732822200@cottesmorevillagehall.org
SUMMARY:Brownies
DESCRIPTION:
URL:https://cottesmorevillagehall.org/event/brownies-19/
END:VEVENT
BEGIN:VEVENT
DTSTART;TZID=Europe/London:20241128T133000
DTEND;TZID=Europe/London:20241128T143000
DTSTAMP:20260425T011645
CREATED:20241106T090312Z
LAST-MODIFIED:20241106T090312Z
UID:1322-1732800600-1732804200@cottesmorevillagehall.org
SUMMARY:Tai Chi
DESCRIPTION:
URL:https://cottesmorevillagehall.org/event/tai-chi-55/
END:VEVENT
BEGIN:VEVENT
DTSTART;TZID=Europe/London:20241128T103000
DTEND;TZID=Europe/London:20241128T123000
DTSTAMP:20260425T011645
CREATED:20241106T090357Z
LAST-MODIFIED:20241106T090357Z
UID:1324-1732789800-1732797000@cottesmorevillagehall.org
SUMMARY:Pickleball
DESCRIPTION:
URL:https://cottesmorevillagehall.org/event/pickleball-28/
END:VEVENT
BEGIN:VEVENT
DTSTART;TZID=Europe/London:20241127T070000
DTEND;TZID=Europe/London:20241127T213000
DTSTAMP:20260425T011645
CREATED:20241106T090117Z
LAST-MODIFIED:20241106T090117Z
UID:1316-1732690800-1732743000@cottesmorevillagehall.org
SUMMARY:Bowls
DESCRIPTION:
URL:https://cottesmorevillagehall.org/event/bowls-10/
END:VEVENT
BEGIN:VEVENT
DTSTART;TZID=Europe/London:20241127T020000
DTEND;TZID=Europe/London:20241127T160000
DTSTAMP:20260425T011645
CREATED:20241106T090147Z
LAST-MODIFIED:20241106T090147Z
UID:1318-1732672800-1732723200@cottesmorevillagehall.org
SUMMARY:Table Tennis
DESCRIPTION:
URL:https://cottesmorevillagehall.org/event/table-tennis-103/
END:VEVENT
BEGIN:VEVENT
DTSTART;VALUE=DATE:20241127
DTEND;VALUE=DATE:20241128
DTSTAMP:20260425T011645
CREATED:20241106T090016Z
LAST-MODIFIED:20241106T090016Z
UID:1314-1732665600-1732751999@cottesmorevillagehall.org
SUMMARY:Lavender Mill
DESCRIPTION:
URL:https://cottesmorevillagehall.org/event/lavender-mill-52/
END:VEVENT
BEGIN:VEVENT
DTSTART;TZID=Europe/London:20241126T170000
DTEND;TZID=Europe/London:20241126T183000
DTSTAMP:20260425T011645
CREATED:20241106T085916Z
LAST-MODIFIED:20241106T085916Z
UID:1310-1732640400-1732645800@cottesmorevillagehall.org
SUMMARY:Children's Karate
DESCRIPTION:
URL:https://cottesmorevillagehall.org/event/childrens-karate-29/
END:VEVENT
BEGIN:VEVENT
DTSTART;TZID=Europe/London:20241126T133000
DTEND;TZID=Europe/London:20241126T143000
DTSTAMP:20260425T011645
CREATED:20241106T085947Z
LAST-MODIFIED:20241106T085947Z
UID:1312-1732627800-1732631400@cottesmorevillagehall.org
SUMMARY:Tai Chi
DESCRIPTION:
URL:https://cottesmorevillagehall.org/event/tai-chi-54/
END:VEVENT
BEGIN:VEVENT
DTSTART;VALUE=DATE:20241126
DTEND;VALUE=DATE:20241127
DTSTAMP:20260425T011645
CREATED:20241106T085835Z
LAST-MODIFIED:20241106T085835Z
UID:1308-1732579200-1732665599@cottesmorevillagehall.org
SUMMARY:Lavender Mill
DESCRIPTION:
URL:https://cottesmorevillagehall.org/event/lavender-mill-51/
END:VEVENT
BEGIN:VEVENT
DTSTART;TZID=Europe/London:20241125T140000
DTEND;TZID=Europe/London:20241125T160000
DTSTAMP:20260425T011645
CREATED:20241106T085741Z
LAST-MODIFIED:20241106T085741Z
UID:1304-1732543200-1732550400@cottesmorevillagehall.org
SUMMARY:Table Tennis
DESCRIPTION:
URL:https://cottesmorevillagehall.org/event/table-tennis-102/
END:VEVENT
BEGIN:VEVENT
DTSTART;TZID=Europe/London:20241125T093000
DTEND;TZID=Europe/London:20241125T223000
DTSTAMP:20260425T011645
CREATED:20241106T085808Z
LAST-MODIFIED:20241106T085808Z
UID:1306-1732527000-1732573800@cottesmorevillagehall.org
SUMMARY:Yoga
DESCRIPTION:
URL:https://cottesmorevillagehall.org/event/yoga-58/
END:VEVENT
BEGIN:VEVENT
DTSTART;TZID=Europe/London:20241125T070000
DTEND;TZID=Europe/London:20241125T210000
DTSTAMP:20260425T011645
CREATED:20241106T085658Z
LAST-MODIFIED:20241106T085658Z
UID:1302-1732518000-1732568400@cottesmorevillagehall.org
SUMMARY:Liaison Meeting
DESCRIPTION:Upstairs in the meeting room
URL:https://cottesmorevillagehall.org/event/liaison-meeting-3/
END:VEVENT
BEGIN:VEVENT
DTSTART;TZID=Europe/London:20241124T090000
DTEND;TZID=Europe/London:20241124T120000
DTSTAMP:20260425T011645
CREATED:20241106T085513Z
LAST-MODIFIED:20241106T085513Z
UID:1300-1732438800-1732449600@cottesmorevillagehall.org
SUMMARY:Children's Art Class
DESCRIPTION:
URL:https://cottesmorevillagehall.org/event/childrens-art-class-4/
END:VEVENT
BEGIN:VEVENT
DTSTART;TZID=Europe/London:20241123T110000
DTEND;TZID=Europe/London:20241123T140000
DTSTAMP:20260425T011645
CREATED:20241106T085340Z
LAST-MODIFIED:20241106T085340Z
UID:1296-1732359600-1732370400@cottesmorevillagehall.org
SUMMARY:Pickleball
DESCRIPTION:
URL:https://cottesmorevillagehall.org/event/pickleball-27/
END:VEVENT
BEGIN:VEVENT
DTSTART;TZID=Europe/London:20241123T093000
DTEND;TZID=Europe/London:20241123T223000
DTSTAMP:20260425T011645
CREATED:20241106T085411Z
LAST-MODIFIED:20241106T085411Z
UID:1298-1732354200-1732401000@cottesmorevillagehall.org
SUMMARY:Yoga
DESCRIPTION:
URL:https://cottesmorevillagehall.org/event/yoga-57/
END:VEVENT
BEGIN:VEVENT
DTSTART;TZID=Europe/London:20241122T140000
DTEND;TZID=Europe/London:20241122T160000
DTSTAMP:20260425T011645
CREATED:20241106T085250Z
LAST-MODIFIED:20241106T085250Z
UID:1294-1732284000-1732291200@cottesmorevillagehall.org
SUMMARY:Table Tennis
DESCRIPTION:
URL:https://cottesmorevillagehall.org/event/table-tennis-101/
END:VEVENT
BEGIN:VEVENT
DTSTART;VALUE=DATE:20241122
DTEND;VALUE=DATE:20241123
DTSTAMP:20260425T011645
CREATED:20241106T085219Z
LAST-MODIFIED:20241106T085219Z
UID:1292-1732233600-1732319999@cottesmorevillagehall.org
SUMMARY:Lavender Mill
DESCRIPTION:
URL:https://cottesmorevillagehall.org/event/lavender-mill-50/
END:VEVENT
BEGIN:VEVENT
DTSTART;TZID=Europe/London:20241121T180000
DTEND;TZID=Europe/London:20241121T193000
DTSTAMP:20260425T011645
CREATED:20241106T085035Z
LAST-MODIFIED:20241106T085035Z
UID:1286-1732212000-1732217400@cottesmorevillagehall.org
SUMMARY:Brownies
DESCRIPTION:
URL:https://cottesmorevillagehall.org/event/brownies-18/
END:VEVENT
BEGIN:VEVENT
DTSTART;TZID=Europe/London:20241121T133000
DTEND;TZID=Europe/London:20241121T143000
DTSTAMP:20260425T011645
CREATED:20241106T085113Z
LAST-MODIFIED:20241106T085113Z
UID:1288-1732195800-1732199400@cottesmorevillagehall.org
SUMMARY:Tai Chi
DESCRIPTION:
URL:https://cottesmorevillagehall.org/event/tai-chi-53/
END:VEVENT
BEGIN:VEVENT
DTSTART;TZID=Europe/London:20241121T103000
DTEND;TZID=Europe/London:20241121T123000
DTSTAMP:20260425T011645
CREATED:20241106T085151Z
LAST-MODIFIED:20241106T085151Z
UID:1290-1732185000-1732192200@cottesmorevillagehall.org
SUMMARY:Pickleball
DESCRIPTION:
URL:https://cottesmorevillagehall.org/event/pickleball-26/
END:VEVENT
BEGIN:VEVENT
DTSTART;TZID=Europe/London:20241120T190000
DTEND;TZID=Europe/London:20241120T213000
DTSTAMP:20260425T011645
CREATED:20241106T084928Z
LAST-MODIFIED:20241106T084928Z
UID:1282-1732129200-1732138200@cottesmorevillagehall.org
SUMMARY:Bowles
DESCRIPTION:
URL:https://cottesmorevillagehall.org/event/bowles-2/
END:VEVENT
BEGIN:VEVENT
DTSTART;TZID=Europe/London:20241120T190000
DTEND;TZID=Europe/London:20241120T210000
DTSTAMP:20260425T011645
CREATED:20241106T084851Z
LAST-MODIFIED:20241106T090831Z
UID:1280-1732129200-1732136400@cottesmorevillagehall.org
SUMMARY:Investment club
DESCRIPTION:Upstairs in the meeting room
URL:https://cottesmorevillagehall.org/event/investment-club-7/
END:VEVENT
END:VCALENDAR