BEGIN:VCALENDAR
VERSION:2.0
PRODID:-//Cottesmore Village Hall - ECPv6.15.20//NONSGML v1.0//EN
CALSCALE:GREGORIAN
METHOD:PUBLISH
X-WR-CALNAME:Cottesmore Village Hall
X-ORIGINAL-URL:https://cottesmorevillagehall.org
X-WR-CALDESC:Events for Cottesmore Village Hall
REFRESH-INTERVAL;VALUE=DURATION:PT1H
X-Robots-Tag:noindex
X-PUBLISHED-TTL:PT1H
BEGIN:VTIMEZONE
TZID:Europe/London
BEGIN:DAYLIGHT
TZOFFSETFROM:+0000
TZOFFSETTO:+0100
TZNAME:BST
DTSTART:20250330T010000
END:DAYLIGHT
BEGIN:STANDARD
TZOFFSETFROM:+0100
TZOFFSETTO:+0000
TZNAME:GMT
DTSTART:20251026T010000
END:STANDARD
BEGIN:DAYLIGHT
TZOFFSETFROM:+0000
TZOFFSETTO:+0100
TZNAME:BST
DTSTART:20260329T010000
END:DAYLIGHT
BEGIN:STANDARD
TZOFFSETFROM:+0100
TZOFFSETTO:+0000
TZNAME:GMT
DTSTART:20261025T010000
END:STANDARD
BEGIN:DAYLIGHT
TZOFFSETFROM:+0000
TZOFFSETTO:+0100
TZNAME:BST
DTSTART:20270328T010000
END:DAYLIGHT
BEGIN:STANDARD
TZOFFSETFROM:+0100
TZOFFSETTO:+0000
TZNAME:GMT
DTSTART:20271031T010000
END:STANDARD
END:VTIMEZONE
BEGIN:VEVENT
DTSTART;TZID=Europe/London:20260504T140000
DTEND;TZID=Europe/London:20260504T160000
DTSTAMP:20260423T200649
CREATED:20260422T140816Z
LAST-MODIFIED:20260422T140816Z
UID:3946-1777903200-1777910400@cottesmorevillagehall.org
SUMMARY:Table Tennis
DESCRIPTION:
URL:https://cottesmorevillagehall.org/event/table-tennis-304/
END:VEVENT
BEGIN:VEVENT
DTSTART;VALUE=DATE:20260505
DTEND;VALUE=DATE:20260506
DTSTAMP:20260423T200649
CREATED:20260422T140848Z
LAST-MODIFIED:20260422T140848Z
UID:3948-1777939200-1778025599@cottesmorevillagehall.org
SUMMARY:Lavender Mill
DESCRIPTION:
URL:https://cottesmorevillagehall.org/event/lavender-mill-253/
END:VEVENT
BEGIN:VEVENT
DTSTART;TZID=Europe/London:20260505T133000
DTEND;TZID=Europe/London:20260505T143000
DTSTAMP:20260423T200649
CREATED:20260422T140931Z
LAST-MODIFIED:20260422T140931Z
UID:3950-1777987800-1777991400@cottesmorevillagehall.org
SUMMARY:Tai Chi
DESCRIPTION:
URL:https://cottesmorevillagehall.org/event/tai-chi-165/
END:VEVENT
BEGIN:VEVENT
DTSTART;TZID=Europe/London:20260505T163000
DTEND;TZID=Europe/London:20260505T183000
DTSTAMP:20260423T200649
CREATED:20260422T141013Z
LAST-MODIFIED:20260422T141013Z
UID:3952-1777998600-1778005800@cottesmorevillagehall.org
SUMMARY:Children's Karate
DESCRIPTION:
URL:https://cottesmorevillagehall.org/event/childrens-karate-96/
END:VEVENT
BEGIN:VEVENT
DTSTART;TZID=Europe/London:20260505T193000
DTEND;TZID=Europe/London:20260505T213000
DTSTAMP:20260423T200649
CREATED:20260422T141055Z
LAST-MODIFIED:20260422T141055Z
UID:3954-1778009400-1778016600@cottesmorevillagehall.org
SUMMARY:Lindy Hop
DESCRIPTION:
URL:https://cottesmorevillagehall.org/event/lindy-hop-49/
END:VEVENT
BEGIN:VEVENT
DTSTART;VALUE=DATE:20260506
DTEND;VALUE=DATE:20260507
DTSTAMP:20260423T200649
CREATED:20260422T141128Z
LAST-MODIFIED:20260422T141128Z
UID:3956-1778025600-1778111999@cottesmorevillagehall.org
SUMMARY:Lavender Mill
DESCRIPTION:
URL:https://cottesmorevillagehall.org/event/lavender-mill-254/
END:VEVENT
BEGIN:VEVENT
DTSTART;TZID=Europe/London:20260506T140000
DTEND;TZID=Europe/London:20260506T160000
DTSTAMP:20260423T200649
CREATED:20260422T141155Z
LAST-MODIFIED:20260422T141155Z
UID:3958-1778076000-1778083200@cottesmorevillagehall.org
SUMMARY:Table Tennis
DESCRIPTION:
URL:https://cottesmorevillagehall.org/event/table-tennis-305/
END:VEVENT
BEGIN:VEVENT
DTSTART;TZID=Europe/London:20260506T190000
DTEND;TZID=Europe/London:20260506T213000
DTSTAMP:20260423T200649
CREATED:20260422T141251Z
LAST-MODIFIED:20260422T141251Z
UID:3960-1778094000-1778103000@cottesmorevillagehall.org
SUMMARY:Bowls
DESCRIPTION:
URL:https://cottesmorevillagehall.org/event/bowls-49/
END:VEVENT
BEGIN:VEVENT
DTSTART;TZID=Europe/London:20260507T093000
DTEND;TZID=Europe/London:20260507T123000
DTSTAMP:20260423T200649
CREATED:20260422T141408Z
LAST-MODIFIED:20260422T141408Z
UID:3964-1778146200-1778157000@cottesmorevillagehall.org
SUMMARY:Pickleball
DESCRIPTION:
URL:https://cottesmorevillagehall.org/event/pickleball-181/
END:VEVENT
BEGIN:VEVENT
DTSTART;TZID=Europe/London:20260507T150000
DTEND;TZID=Europe/London:20260507T170000
DTSTAMP:20260423T200649
CREATED:20260422T141441Z
LAST-MODIFIED:20260422T141441Z
UID:3966-1778166000-1778173200@cottesmorevillagehall.org
SUMMARY:Pickleball
DESCRIPTION:
URL:https://cottesmorevillagehall.org/event/pickleball-182/
END:VEVENT
BEGIN:VEVENT
DTSTART;TZID=Europe/London:20260508T080000
DTEND;TZID=Europe/London:20260508T170000
DTSTAMP:20260423T200649
CREATED:20260422T141329Z
LAST-MODIFIED:20260422T141329Z
UID:3962-1778227200-1778259600@cottesmorevillagehall.org
SUMMARY:Lavender Mill
DESCRIPTION:
URL:https://cottesmorevillagehall.org/event/lavender-mill-255/
END:VEVENT
BEGIN:VEVENT
DTSTART;TZID=Europe/London:20260508T140000
DTEND;TZID=Europe/London:20260508T160000
DTSTAMP:20260423T200649
CREATED:20260422T141519Z
LAST-MODIFIED:20260422T141519Z
UID:3968-1778248800-1778256000@cottesmorevillagehall.org
SUMMARY:Table Tennis
DESCRIPTION:
URL:https://cottesmorevillagehall.org/event/table-tennis-306/
END:VEVENT
BEGIN:VEVENT
DTSTART;TZID=Europe/London:20260509T093000
DTEND;TZID=Europe/London:20260509T103000
DTSTAMP:20260423T200649
CREATED:20260422T141640Z
LAST-MODIFIED:20260422T141640Z
UID:3970-1778319000-1778322600@cottesmorevillagehall.org
SUMMARY:Yoga
DESCRIPTION:
URL:https://cottesmorevillagehall.org/event/yoga-180/
END:VEVENT
BEGIN:VEVENT
DTSTART;TZID=Europe/London:20260509T110000
DTEND;TZID=Europe/London:20260509T140000
DTSTAMP:20260423T200649
CREATED:20260422T141735Z
LAST-MODIFIED:20260422T141735Z
UID:3972-1778324400-1778335200@cottesmorevillagehall.org
SUMMARY:Pickleball
DESCRIPTION:
URL:https://cottesmorevillagehall.org/event/pickleball-183/
END:VEVENT
BEGIN:VEVENT
DTSTART;TZID=Europe/London:20260511T093000
DTEND;TZID=Europe/London:20260511T103000
DTSTAMP:20260423T200649
CREATED:20260422T141814Z
LAST-MODIFIED:20260422T141814Z
UID:3974-1778491800-1778495400@cottesmorevillagehall.org
SUMMARY:Yoga
DESCRIPTION:
URL:https://cottesmorevillagehall.org/event/yoga-181/
END:VEVENT
BEGIN:VEVENT
DTSTART;TZID=Europe/London:20260511T140000
DTEND;TZID=Europe/London:20260511T160000
DTSTAMP:20260423T200649
CREATED:20260422T141839Z
LAST-MODIFIED:20260422T141839Z
UID:3976-1778508000-1778515200@cottesmorevillagehall.org
SUMMARY:table tennis
DESCRIPTION:
URL:https://cottesmorevillagehall.org/event/table-tennis-307/
END:VEVENT
BEGIN:VEVENT
DTSTART;VALUE=DATE:20260512
DTEND;VALUE=DATE:20260513
DTSTAMP:20260423T200649
CREATED:20260422T142152Z
LAST-MODIFIED:20260422T142152Z
UID:3978-1778544000-1778630399@cottesmorevillagehall.org
SUMMARY:Lavender mill
DESCRIPTION:
URL:https://cottesmorevillagehall.org/event/lavender-mill-256/
END:VEVENT
BEGIN:VEVENT
DTSTART;TZID=Europe/London:20260512T133000
DTEND;TZID=Europe/London:20260512T143000
DTSTAMP:20260423T200649
CREATED:20260422T142220Z
LAST-MODIFIED:20260422T142220Z
UID:3980-1778592600-1778596200@cottesmorevillagehall.org
SUMMARY:Tai Chi
DESCRIPTION:
URL:https://cottesmorevillagehall.org/event/tai-chi-166/
END:VEVENT
BEGIN:VEVENT
DTSTART;TZID=Europe/London:20260512T163000
DTEND;TZID=Europe/London:20260512T183000
DTSTAMP:20260423T200649
CREATED:20260422T142305Z
LAST-MODIFIED:20260422T142305Z
UID:3982-1778603400-1778610600@cottesmorevillagehall.org
SUMMARY:Children's Karate
DESCRIPTION:
URL:https://cottesmorevillagehall.org/event/childrens-karate-97/
END:VEVENT
BEGIN:VEVENT
DTSTART;TZID=Europe/London:20260512T193000
DTEND;TZID=Europe/London:20260512T213000
DTSTAMP:20260423T200649
CREATED:20260422T142339Z
LAST-MODIFIED:20260422T142339Z
UID:3984-1778614200-1778621400@cottesmorevillagehall.org
SUMMARY:Lindy Hop
DESCRIPTION:
URL:https://cottesmorevillagehall.org/event/lindy-hop-50/
END:VEVENT
BEGIN:VEVENT
DTSTART;VALUE=DATE:20260513
DTEND;VALUE=DATE:20260514
DTSTAMP:20260423T200649
CREATED:20260422T142407Z
LAST-MODIFIED:20260422T142407Z
UID:3986-1778630400-1778716799@cottesmorevillagehall.org
SUMMARY:Lavender mill
DESCRIPTION:
URL:https://cottesmorevillagehall.org/event/lavender-mill-257/
END:VEVENT
BEGIN:VEVENT
DTSTART;TZID=Europe/London:20260513T140000
DTEND;TZID=Europe/London:20260513T160000
DTSTAMP:20260423T200649
CREATED:20260422T142445Z
LAST-MODIFIED:20260422T142445Z
UID:3988-1778680800-1778688000@cottesmorevillagehall.org
SUMMARY:Table Tennis
DESCRIPTION:
URL:https://cottesmorevillagehall.org/event/table-tennis-308/
END:VEVENT
BEGIN:VEVENT
DTSTART;TZID=Europe/London:20260514T093000
DTEND;TZID=Europe/London:20260514T123000
DTSTAMP:20260423T200649
CREATED:20260422T142546Z
LAST-MODIFIED:20260422T142546Z
UID:3990-1778751000-1778761800@cottesmorevillagehall.org
SUMMARY:Pickleball
DESCRIPTION:
URL:https://cottesmorevillagehall.org/event/pickleball-184/
END:VEVENT
BEGIN:VEVENT
DTSTART;TZID=Europe/London:20260514T133000
DTEND;TZID=Europe/London:20260514T143000
DTSTAMP:20260423T200649
CREATED:20260422T142651Z
LAST-MODIFIED:20260422T142651Z
UID:3992-1778765400-1778769000@cottesmorevillagehall.org
SUMMARY:Tai Chi
DESCRIPTION:
URL:https://cottesmorevillagehall.org/event/tai-chi-167/
END:VEVENT
BEGIN:VEVENT
DTSTART;TZID=Europe/London:20260514T153000
DTEND;TZID=Europe/London:20260514T170000
DTSTAMP:20260423T200649
CREATED:20260422T142723Z
LAST-MODIFIED:20260422T142723Z
UID:3994-1778772600-1778778000@cottesmorevillagehall.org
SUMMARY:Pickleball
DESCRIPTION:
URL:https://cottesmorevillagehall.org/event/pickleball-185/
END:VEVENT
BEGIN:VEVENT
DTSTART;TZID=Europe/London:20260514T180000
DTEND;TZID=Europe/London:20260514T193000
DTSTAMP:20260423T200649
CREATED:20260422T142828Z
LAST-MODIFIED:20260422T142828Z
UID:3996-1778781600-1778787000@cottesmorevillagehall.org
SUMMARY:Brownies
DESCRIPTION:
URL:https://cottesmorevillagehall.org/event/brownies-70/
END:VEVENT
BEGIN:VEVENT
DTSTART;VALUE=DATE:20260515
DTEND;VALUE=DATE:20260516
DTSTAMP:20260423T200649
CREATED:20260423T112846Z
LAST-MODIFIED:20260423T112846Z
UID:3998-1778803200-1778889599@cottesmorevillagehall.org
SUMMARY:Lavender Mill
DESCRIPTION:
URL:https://cottesmorevillagehall.org/event/lavender-mill-258/
END:VEVENT
BEGIN:VEVENT
DTSTART;TZID=Europe/London:20260515T140000
DTEND;TZID=Europe/London:20260515T160000
DTSTAMP:20260423T200649
CREATED:20260423T112917Z
LAST-MODIFIED:20260423T112917Z
UID:4000-1778853600-1778860800@cottesmorevillagehall.org
SUMMARY:Table Tennis
DESCRIPTION:
URL:https://cottesmorevillagehall.org/event/table-tennis-309/
END:VEVENT
BEGIN:VEVENT
DTSTART;TZID=Europe/London:20260516T093000
DTEND;TZID=Europe/London:20260516T103000
DTSTAMP:20260423T200649
CREATED:20260423T112957Z
LAST-MODIFIED:20260423T112957Z
UID:4002-1778923800-1778927400@cottesmorevillagehall.org
SUMMARY:Yoga
DESCRIPTION:
URL:https://cottesmorevillagehall.org/event/yoga-182/
END:VEVENT
BEGIN:VEVENT
DTSTART;TZID=Europe/London:20260516T110000
DTEND;TZID=Europe/London:20260516T140000
DTSTAMP:20260423T200649
CREATED:20260423T113036Z
LAST-MODIFIED:20260423T113036Z
UID:4004-1778929200-1778940000@cottesmorevillagehall.org
SUMMARY:Pickleball
DESCRIPTION:
URL:https://cottesmorevillagehall.org/event/pickleball-186/
END:VEVENT
END:VCALENDAR