BEGIN:VCALENDAR
VERSION:2.0
PRODID:-//Cottesmore Village Hall - ECPv6.15.20//NONSGML v1.0//EN
CALSCALE:GREGORIAN
METHOD:PUBLISH
X-WR-CALNAME:Cottesmore Village Hall
X-ORIGINAL-URL:https://cottesmorevillagehall.org
X-WR-CALDESC:Events for Cottesmore Village Hall
REFRESH-INTERVAL;VALUE=DURATION:PT1H
X-Robots-Tag:noindex
X-PUBLISHED-TTL:PT1H
BEGIN:VTIMEZONE
TZID:Europe/London
BEGIN:DAYLIGHT
TZOFFSETFROM:+0000
TZOFFSETTO:+0100
TZNAME:BST
DTSTART:20230326T010000
END:DAYLIGHT
BEGIN:STANDARD
TZOFFSETFROM:+0100
TZOFFSETTO:+0000
TZNAME:GMT
DTSTART:20231029T010000
END:STANDARD
BEGIN:DAYLIGHT
TZOFFSETFROM:+0000
TZOFFSETTO:+0100
TZNAME:BST
DTSTART:20240331T010000
END:DAYLIGHT
BEGIN:STANDARD
TZOFFSETFROM:+0100
TZOFFSETTO:+0000
TZNAME:GMT
DTSTART:20241027T010000
END:STANDARD
BEGIN:DAYLIGHT
TZOFFSETFROM:+0000
TZOFFSETTO:+0100
TZNAME:BST
DTSTART:20250330T010000
END:DAYLIGHT
BEGIN:STANDARD
TZOFFSETFROM:+0100
TZOFFSETTO:+0000
TZNAME:GMT
DTSTART:20251026T010000
END:STANDARD
END:VTIMEZONE
BEGIN:VEVENT
DTSTART;VALUE=DATE:20241218
DTEND;VALUE=DATE:20241219
DTSTAMP:20260423T102227
CREATED:20241201T094805Z
LAST-MODIFIED:20241201T094805Z
UID:1445-1734480000-1734566399@cottesmorevillagehall.org
SUMMARY:Lavender Mill
DESCRIPTION:
URL:https://cottesmorevillagehall.org/event/lavender-mill-61/
END:VEVENT
BEGIN:VEVENT
DTSTART;TZID=Europe/London:20241217T170000
DTEND;TZID=Europe/London:20241217T183000
DTSTAMP:20260423T102227
CREATED:20241201T094645Z
LAST-MODIFIED:20241201T094645Z
UID:1441-1734454800-1734460200@cottesmorevillagehall.org
SUMMARY:Children's Karate
DESCRIPTION:
URL:https://cottesmorevillagehall.org/event/childrens-karate-32/
END:VEVENT
BEGIN:VEVENT
DTSTART;TZID=Europe/London:20241217T133000
DTEND;TZID=Europe/London:20241217T143000
DTSTAMP:20260423T102227
CREATED:20241201T094718Z
LAST-MODIFIED:20241201T094718Z
UID:1443-1734442200-1734445800@cottesmorevillagehall.org
SUMMARY:Tai Chi
DESCRIPTION:
URL:https://cottesmorevillagehall.org/event/tai-chi-60/
END:VEVENT
BEGIN:VEVENT
DTSTART;TZID=Europe/London:20241217T073000
DTEND;TZID=Europe/London:20241217T220000
DTSTAMP:20260423T102227
CREATED:20241201T094600Z
LAST-MODIFIED:20241201T094600Z
UID:1439-1734420600-1734472800@cottesmorevillagehall.org
SUMMARY:Film Night
DESCRIPTION:
URL:https://cottesmorevillagehall.org/event/film-night-7/
END:VEVENT
BEGIN:VEVENT
DTSTART;VALUE=DATE:20241217
DTEND;VALUE=DATE:20241218
DTSTAMP:20260423T102227
CREATED:20241201T094527Z
LAST-MODIFIED:20241201T094527Z
UID:1437-1734393600-1734479999@cottesmorevillagehall.org
SUMMARY:Lavender Mill
DESCRIPTION:
URL:https://cottesmorevillagehall.org/event/lavender-mill-60/
END:VEVENT
BEGIN:VEVENT
DTSTART;TZID=Europe/London:20241216T140000
DTEND;TZID=Europe/London:20241216T160000
DTSTAMP:20260423T102227
CREATED:20241201T094405Z
LAST-MODIFIED:20241201T094405Z
UID:1433-1734357600-1734364800@cottesmorevillagehall.org
SUMMARY:Table Tennis
DESCRIPTION:
URL:https://cottesmorevillagehall.org/event/table-tennis-109/
END:VEVENT
BEGIN:VEVENT
DTSTART;TZID=Europe/London:20241216T093000
DTEND;TZID=Europe/London:20241216T103000
DTSTAMP:20260423T102227
CREATED:20241201T094446Z
LAST-MODIFIED:20241201T094446Z
UID:1435-1734341400-1734345000@cottesmorevillagehall.org
SUMMARY:Yoga
DESCRIPTION:
URL:https://cottesmorevillagehall.org/event/yoga-64/
END:VEVENT
BEGIN:VEVENT
DTSTART;VALUE=DATE:20241215
DTEND;VALUE=DATE:20241216
DTSTAMP:20260423T102227
CREATED:20241201T094331Z
LAST-MODIFIED:20241201T094331Z
UID:1431-1734220800-1734307199@cottesmorevillagehall.org
SUMMARY:Parish Council Children's Christmas Craft
DESCRIPTION:
URL:https://cottesmorevillagehall.org/event/parish-council-childrens-christmas-craft/
END:VEVENT
BEGIN:VEVENT
DTSTART;TZID=Europe/London:20241214T150000
DTEND;TZID=Europe/London:20241214T170000
DTSTAMP:20260423T102227
CREATED:20241201T094127Z
LAST-MODIFIED:20241201T094127Z
UID:1425-1734188400-1734195600@cottesmorevillagehall.org
SUMMARY:Rainbows
DESCRIPTION:
URL:https://cottesmorevillagehall.org/event/rainbows-7/
END:VEVENT
BEGIN:VEVENT
DTSTART;TZID=Europe/London:20241214T110000
DTEND;TZID=Europe/London:20241214T140000
DTSTAMP:20260423T102227
CREATED:20241201T094159Z
LAST-MODIFIED:20241201T094159Z
UID:1427-1734174000-1734184800@cottesmorevillagehall.org
SUMMARY:Pickleball
DESCRIPTION:
URL:https://cottesmorevillagehall.org/event/pickleball-32/
END:VEVENT
BEGIN:VEVENT
DTSTART;TZID=Europe/London:20241214T093000
DTEND;TZID=Europe/London:20241214T223000
DTSTAMP:20260423T102227
CREATED:20241201T094239Z
LAST-MODIFIED:20241201T094239Z
UID:1429-1734168600-1734215400@cottesmorevillagehall.org
SUMMARY:Yoga
DESCRIPTION:
URL:https://cottesmorevillagehall.org/event/yoga-63/
END:VEVENT
BEGIN:VEVENT
DTSTART;TZID=Europe/London:20241213T140000
DTEND;TZID=Europe/London:20241213T160000
DTSTAMP:20260423T102227
CREATED:20241201T094030Z
LAST-MODIFIED:20241201T094030Z
UID:1423-1734098400-1734105600@cottesmorevillagehall.org
SUMMARY:Table Tennis
DESCRIPTION:
URL:https://cottesmorevillagehall.org/event/table-tennis-108/
END:VEVENT
BEGIN:VEVENT
DTSTART;VALUE=DATE:20241213
DTEND;VALUE=DATE:20241214
DTSTAMP:20260423T102227
CREATED:20241201T094005Z
LAST-MODIFIED:20241201T094005Z
UID:1421-1734048000-1734134399@cottesmorevillagehall.org
SUMMARY:Lavender Mill
DESCRIPTION:
URL:https://cottesmorevillagehall.org/event/lavender-mill-59/
END:VEVENT
BEGIN:VEVENT
DTSTART;TZID=Europe/London:20241212T180000
DTEND;TZID=Europe/London:20241212T193000
DTSTAMP:20260423T102227
CREATED:20241130T163944Z
LAST-MODIFIED:20241130T163944Z
UID:1415-1734026400-1734031800@cottesmorevillagehall.org
SUMMARY:Brownies
DESCRIPTION:
URL:https://cottesmorevillagehall.org/event/brownies-21/
END:VEVENT
BEGIN:VEVENT
DTSTART;TZID=Europe/London:20241212T133000
DTEND;TZID=Europe/London:20241212T143000
DTSTAMP:20260423T102227
CREATED:20241130T164017Z
LAST-MODIFIED:20241130T164017Z
UID:1417-1734010200-1734013800@cottesmorevillagehall.org
SUMMARY:Tai Chi
DESCRIPTION:
URL:https://cottesmorevillagehall.org/event/tai-chi-59/
END:VEVENT
BEGIN:VEVENT
DTSTART;TZID=Europe/London:20241212T103000
DTEND;TZID=Europe/London:20241212T123000
DTSTAMP:20260423T102227
CREATED:20241130T164105Z
LAST-MODIFIED:20241130T164105Z
UID:1419-1733999400-1734006600@cottesmorevillagehall.org
SUMMARY:Pickleball
DESCRIPTION:
URL:https://cottesmorevillagehall.org/event/pickleball-31/
END:VEVENT
BEGIN:VEVENT
DTSTART;TZID=Europe/London:20241212T074500
DTEND;TZID=Europe/London:20241212T213000
DTSTAMP:20260423T102227
CREATED:20241130T163915Z
LAST-MODIFIED:20241130T163915Z
UID:1413-1733989500-1734039000@cottesmorevillagehall.org
SUMMARY:Dance Class
DESCRIPTION:
URL:https://cottesmorevillagehall.org/event/dance-class-4/
END:VEVENT
BEGIN:VEVENT
DTSTART;TZID=Europe/London:20241211T190000
DTEND;TZID=Europe/London:20241211T213000
DTSTAMP:20260423T102227
CREATED:20241130T163738Z
LAST-MODIFIED:20241130T163738Z
UID:1409-1733943600-1733952600@cottesmorevillagehall.org
SUMMARY:Bowls
DESCRIPTION:
URL:https://cottesmorevillagehall.org/event/bowls-11/
END:VEVENT
BEGIN:VEVENT
DTSTART;TZID=Europe/London:20241211T140000
DTEND;TZID=Europe/London:20241211T160000
DTSTAMP:20260423T102227
CREATED:20241130T163809Z
LAST-MODIFIED:20241130T163809Z
UID:1411-1733925600-1733932800@cottesmorevillagehall.org
SUMMARY:Table Tennis
DESCRIPTION:
URL:https://cottesmorevillagehall.org/event/table-tennis-107/
END:VEVENT
BEGIN:VEVENT
DTSTART;VALUE=DATE:20241211
DTEND;VALUE=DATE:20241212
DTSTAMP:20260423T102227
CREATED:20241130T163651Z
LAST-MODIFIED:20241130T163651Z
UID:1407-1733875200-1733961599@cottesmorevillagehall.org
SUMMARY:Lavender Mill
DESCRIPTION:
URL:https://cottesmorevillagehall.org/event/lavender-mill-58/
END:VEVENT
BEGIN:VEVENT
DTSTART;TZID=Europe/London:20241210T193000
DTEND;TZID=Europe/London:20241210T213000
DTSTAMP:20260423T102227
CREATED:20241130T163455Z
LAST-MODIFIED:20241130T163455Z
UID:1401-1733859000-1733866200@cottesmorevillagehall.org
SUMMARY:Dance Class
DESCRIPTION:
URL:https://cottesmorevillagehall.org/event/dance-class-3/
END:VEVENT
BEGIN:VEVENT
DTSTART;TZID=Europe/London:20241210T170000
DTEND;TZID=Europe/London:20241210T183000
DTSTAMP:20260423T102227
CREATED:20241130T163547Z
LAST-MODIFIED:20241130T163547Z
UID:1403-1733850000-1733855400@cottesmorevillagehall.org
SUMMARY:Children's Karate
DESCRIPTION:
URL:https://cottesmorevillagehall.org/event/childrens-karate-31/
END:VEVENT
BEGIN:VEVENT
DTSTART;TZID=Europe/London:20241210T133000
DTEND;TZID=Europe/London:20241210T143000
DTSTAMP:20260423T102227
CREATED:20241130T163622Z
LAST-MODIFIED:20241130T163622Z
UID:1405-1733837400-1733841000@cottesmorevillagehall.org
SUMMARY:Tai Chi
DESCRIPTION:
URL:https://cottesmorevillagehall.org/event/tai-chi-58/
END:VEVENT
BEGIN:VEVENT
DTSTART;VALUE=DATE:20241210
DTEND;VALUE=DATE:20241211
DTSTAMP:20260423T102227
CREATED:20241130T163426Z
LAST-MODIFIED:20241130T163426Z
UID:1399-1733788800-1733875199@cottesmorevillagehall.org
SUMMARY:Lavender Mill
DESCRIPTION:
URL:https://cottesmorevillagehall.org/event/lavender-mill-57/
END:VEVENT
BEGIN:VEVENT
DTSTART;TZID=Europe/London:20241209T190000
DTEND;TZID=Europe/London:20241209T210000
DTSTAMP:20260423T102227
CREATED:20241130T163229Z
LAST-MODIFIED:20241130T163229Z
UID:1395-1733770800-1733778000@cottesmorevillagehall.org
SUMMARY:Parish council meeting
DESCRIPTION:Upstairs meeting room
URL:https://cottesmorevillagehall.org/event/parish-council-meeting-9/
END:VEVENT
BEGIN:VEVENT
DTSTART;TZID=Europe/London:20241209T140000
DTEND;TZID=Europe/London:20241209T160000
DTSTAMP:20260423T102227
CREATED:20241130T163132Z
LAST-MODIFIED:20241130T163132Z
UID:1393-1733752800-1733760000@cottesmorevillagehall.org
SUMMARY:Gardening club
DESCRIPTION:McNeill’s bar
URL:https://cottesmorevillagehall.org/event/gardening-club-9/
END:VEVENT
BEGIN:VEVENT
DTSTART;TZID=Europe/London:20241209T093000
DTEND;TZID=Europe/London:20241209T103000
DTSTAMP:20260423T102227
CREATED:20241130T163303Z
LAST-MODIFIED:20241130T163303Z
UID:1397-1733736600-1733740200@cottesmorevillagehall.org
SUMMARY:Yoga
DESCRIPTION:
URL:https://cottesmorevillagehall.org/event/yoga-62/
END:VEVENT
BEGIN:VEVENT
DTSTART;TZID=Europe/London:20241208T150000
DTEND;TZID=Europe/London:20241208T170000
DTSTAMP:20260423T102227
CREATED:20241130T162653Z
LAST-MODIFIED:20241130T162653Z
UID:1391-1733670000-1733677200@cottesmorevillagehall.org
SUMMARY:Bingo
DESCRIPTION:
URL:https://cottesmorevillagehall.org/event/bingo-9/
END:VEVENT
BEGIN:VEVENT
DTSTART;TZID=Europe/London:20241207T180000
DTEND;TZID=Europe/London:20241207T220000
DTSTAMP:20260423T102227
CREATED:20241130T162500Z
LAST-MODIFIED:20241130T162500Z
UID:1385-1733594400-1733608800@cottesmorevillagehall.org
SUMMARY:Ukulele Concert
DESCRIPTION:
URL:https://cottesmorevillagehall.org/event/ukulele-concert/
END:VEVENT
BEGIN:VEVENT
DTSTART;TZID=Europe/London:20241207T110000
DTEND;TZID=Europe/London:20241207T130000
DTSTAMP:20260423T102227
CREATED:20241130T162550Z
LAST-MODIFIED:20241130T162550Z
UID:1387-1733569200-1733576400@cottesmorevillagehall.org
SUMMARY:Pickleball
DESCRIPTION:
URL:https://cottesmorevillagehall.org/event/pickleball-30/
END:VEVENT
END:VCALENDAR