BEGIN:VCALENDAR
VERSION:2.0
PRODID:-//Cottesmore Village Hall - ECPv6.15.20//NONSGML v1.0//EN
CALSCALE:GREGORIAN
METHOD:PUBLISH
X-WR-CALNAME:Cottesmore Village Hall
X-ORIGINAL-URL:https://cottesmorevillagehall.org
X-WR-CALDESC:Events for Cottesmore Village Hall
REFRESH-INTERVAL;VALUE=DURATION:PT1H
X-Robots-Tag:noindex
X-PUBLISHED-TTL:PT1H
BEGIN:VTIMEZONE
TZID:Europe/London
BEGIN:DAYLIGHT
TZOFFSETFROM:+0000
TZOFFSETTO:+0100
TZNAME:BST
DTSTART:20230326T010000
END:DAYLIGHT
BEGIN:STANDARD
TZOFFSETFROM:+0100
TZOFFSETTO:+0000
TZNAME:GMT
DTSTART:20231029T010000
END:STANDARD
BEGIN:DAYLIGHT
TZOFFSETFROM:+0000
TZOFFSETTO:+0100
TZNAME:BST
DTSTART:20240331T010000
END:DAYLIGHT
BEGIN:STANDARD
TZOFFSETFROM:+0100
TZOFFSETTO:+0000
TZNAME:GMT
DTSTART:20241027T010000
END:STANDARD
BEGIN:DAYLIGHT
TZOFFSETFROM:+0000
TZOFFSETTO:+0100
TZNAME:BST
DTSTART:20250330T010000
END:DAYLIGHT
BEGIN:STANDARD
TZOFFSETFROM:+0100
TZOFFSETTO:+0000
TZNAME:GMT
DTSTART:20251026T010000
END:STANDARD
BEGIN:DAYLIGHT
TZOFFSETFROM:+0000
TZOFFSETTO:+0100
TZNAME:BST
DTSTART:20260329T010000
END:DAYLIGHT
BEGIN:STANDARD
TZOFFSETFROM:+0100
TZOFFSETTO:+0000
TZNAME:GMT
DTSTART:20261025T010000
END:STANDARD
END:VTIMEZONE
BEGIN:VEVENT
DTSTART;TZID=Europe/London:20250109T103000
DTEND;TZID=Europe/London:20250109T123000
DTSTAMP:20260423T042434
CREATED:20250101T154326Z
LAST-MODIFIED:20250101T154454Z
UID:1511-1736418600-1736425800@cottesmorevillagehall.org
SUMMARY:Pickleball
DESCRIPTION:
URL:https://cottesmorevillagehall.org/event/pickleball-36/
END:VEVENT
BEGIN:VEVENT
DTSTART;TZID=Europe/London:20250108T190000
DTEND;TZID=Europe/London:20250108T213000
DTSTAMP:20260423T042434
CREATED:20250101T153903Z
LAST-MODIFIED:20250101T153903Z
UID:1501-1736362800-1736371800@cottesmorevillagehall.org
SUMMARY:Bowls
DESCRIPTION:
URL:https://cottesmorevillagehall.org/event/bowls-13/
END:VEVENT
BEGIN:VEVENT
DTSTART;TZID=Europe/London:20250108T140000
DTEND;TZID=Europe/London:20250108T160000
DTSTAMP:20260423T042434
CREATED:20250101T153939Z
LAST-MODIFIED:20250101T153939Z
UID:1503-1736344800-1736352000@cottesmorevillagehall.org
SUMMARY:Table Tennis
DESCRIPTION:
URL:https://cottesmorevillagehall.org/event/table-tennis-117/
END:VEVENT
BEGIN:VEVENT
DTSTART;VALUE=DATE:20250108
DTEND;VALUE=DATE:20250109
DTSTAMP:20260423T042434
CREATED:20250101T153825Z
LAST-MODIFIED:20250101T153825Z
UID:1499-1736294400-1736380799@cottesmorevillagehall.org
SUMMARY:Lavender mill
DESCRIPTION:
URL:https://cottesmorevillagehall.org/event/lavender-mill-64/
END:VEVENT
BEGIN:VEVENT
DTSTART;TZID=Europe/London:20250107T190000
DTEND;TZID=Europe/London:20250107T210000
DTSTAMP:20260423T042434
CREATED:20250101T153434Z
LAST-MODIFIED:20250101T153434Z
UID:1491-1736276400-1736283600@cottesmorevillagehall.org
SUMMARY:Darts
DESCRIPTION:McNeill’s bar
URL:https://cottesmorevillagehall.org/event/darts/
END:VEVENT
BEGIN:VEVENT
DTSTART;TZID=Europe/London:20250107T184500
DTEND;TZID=Europe/London:20250107T213000
DTSTAMP:20260423T042434
CREATED:20250101T153643Z
LAST-MODIFIED:20250101T153643Z
UID:1495-1736275500-1736285400@cottesmorevillagehall.org
SUMMARY:Lindy Hop
DESCRIPTION:
URL:https://cottesmorevillagehall.org/event/lindy-hop/
END:VEVENT
BEGIN:VEVENT
DTSTART;TZID=Europe/London:20250107T170000
DTEND;TZID=Europe/London:20250107T183000
DTSTAMP:20260423T042434
CREATED:20250101T153755Z
LAST-MODIFIED:20250101T153755Z
UID:1497-1736269200-1736274600@cottesmorevillagehall.org
SUMMARY:Children's Karate
DESCRIPTION:
URL:https://cottesmorevillagehall.org/event/childrens-karate-33/
END:VEVENT
BEGIN:VEVENT
DTSTART;VALUE=DATE:20250107
DTEND;VALUE=DATE:20250108
DTSTAMP:20260423T042434
CREATED:20250101T153502Z
LAST-MODIFIED:20250101T153502Z
UID:1493-1736208000-1736294399@cottesmorevillagehall.org
SUMMARY:Lavender mill
DESCRIPTION:
URL:https://cottesmorevillagehall.org/event/lavender-mill-63/
END:VEVENT
BEGIN:VEVENT
DTSTART;TZID=Europe/London:20250106T140000
DTEND;TZID=Europe/London:20250106T160000
DTSTAMP:20260423T042434
CREATED:20250101T153231Z
LAST-MODIFIED:20250101T153231Z
UID:1487-1736172000-1736179200@cottesmorevillagehall.org
SUMMARY:Table Tennis
DESCRIPTION:
URL:https://cottesmorevillagehall.org/event/table-tennis-116/
END:VEVENT
BEGIN:VEVENT
DTSTART;TZID=Europe/London:20250106T093000
DTEND;TZID=Europe/London:20250106T103000
DTSTAMP:20260423T042434
CREATED:20250101T153302Z
LAST-MODIFIED:20250101T153302Z
UID:1489-1736155800-1736159400@cottesmorevillagehall.org
SUMMARY:Yoga
DESCRIPTION:
URL:https://cottesmorevillagehall.org/event/yoga-67/
END:VEVENT
BEGIN:VEVENT
DTSTART;TZID=Europe/London:20250105T090000
DTEND;TZID=Europe/London:20250105T110000
DTSTAMP:20260423T042434
CREATED:20250101T153130Z
LAST-MODIFIED:20250101T153130Z
UID:1485-1736067600-1736074800@cottesmorevillagehall.org
SUMMARY:Badminton
DESCRIPTION:
URL:https://cottesmorevillagehall.org/event/badminton/
END:VEVENT
BEGIN:VEVENT
DTSTART;TZID=Europe/London:20250104T110000
DTEND;TZID=Europe/London:20250104T130000
DTSTAMP:20260423T042434
CREATED:20250101T153014Z
LAST-MODIFIED:20250101T153014Z
UID:1481-1735988400-1735995600@cottesmorevillagehall.org
SUMMARY:Pickleball
DESCRIPTION:
URL:https://cottesmorevillagehall.org/event/pickleball-35/
END:VEVENT
BEGIN:VEVENT
DTSTART;TZID=Europe/London:20250104T093000
DTEND;TZID=Europe/London:20250104T103000
DTSTAMP:20260423T042434
CREATED:20250101T153045Z
LAST-MODIFIED:20250101T153045Z
UID:1483-1735983000-1735986600@cottesmorevillagehall.org
SUMMARY:Yoga
DESCRIPTION:
URL:https://cottesmorevillagehall.org/event/yoga-66/
END:VEVENT
BEGIN:VEVENT
DTSTART;TZID=Europe/London:20250103T140000
DTEND;TZID=Europe/London:20250103T160000
DTSTAMP:20260423T042434
CREATED:20250101T152918Z
LAST-MODIFIED:20250101T152918Z
UID:1479-1735912800-1735920000@cottesmorevillagehall.org
SUMMARY:Table Tennis
DESCRIPTION:
URL:https://cottesmorevillagehall.org/event/table-tennis-115/
END:VEVENT
BEGIN:VEVENT
DTSTART;VALUE=DATE:20250101
DTEND;VALUE=DATE:20250102
DTSTAMP:20260423T042434
CREATED:20250101T155917Z
LAST-MODIFIED:20250101T155917Z
UID:1541-1735689600-1735775999@cottesmorevillagehall.org
SUMMARY:Lavender Mill
DESCRIPTION:
URL:https://cottesmorevillagehall.org/event/lavender-mill-67/
END:VEVENT
BEGIN:VEVENT
DTSTART;TZID=Europe/London:20241230T140000
DTEND;TZID=Europe/London:20241230T160000
DTSTAMP:20260423T042434
CREATED:20241201T095921Z
LAST-MODIFIED:20241201T095921Z
UID:1473-1735567200-1735574400@cottesmorevillagehall.org
SUMMARY:Table Tennis
DESCRIPTION:
URL:https://cottesmorevillagehall.org/event/table-tennis-114/
END:VEVENT
BEGIN:VEVENT
DTSTART;TZID=Europe/London:20241227T190000
DTEND;TZID=Europe/London:20241227T220000
DTSTAMP:20260423T042434
CREATED:20241201T100025Z
LAST-MODIFIED:20241201T100025Z
UID:1475-1735326000-1735336800@cottesmorevillagehall.org
SUMMARY:Quiz Night
DESCRIPTION:McNeill’s Bar
URL:https://cottesmorevillagehall.org/event/quiz-night/
END:VEVENT
BEGIN:VEVENT
DTSTART;TZID=Europe/London:20241227T140000
DTEND;TZID=Europe/London:20241227T160000
DTSTAMP:20260423T042434
CREATED:20241201T095844Z
LAST-MODIFIED:20241201T095844Z
UID:1471-1735308000-1735315200@cottesmorevillagehall.org
SUMMARY:Table Tennis
DESCRIPTION:
URL:https://cottesmorevillagehall.org/event/table-tennis-113/
END:VEVENT
BEGIN:VEVENT
DTSTART;TZID=Europe/London:20241223T140000
DTEND;TZID=Europe/London:20241223T160000
DTSTAMP:20260423T042434
CREATED:20241201T095815Z
LAST-MODIFIED:20241201T095815Z
UID:1469-1734962400-1734969600@cottesmorevillagehall.org
SUMMARY:Table Tennis
DESCRIPTION:
URL:https://cottesmorevillagehall.org/event/table-tennis-112/
END:VEVENT
BEGIN:VEVENT
DTSTART;TZID=Europe/London:20241221T110000
DTEND;TZID=Europe/London:20241221T140000
DTSTAMP:20260423T042434
CREATED:20241201T095631Z
LAST-MODIFIED:20241201T095631Z
UID:1465-1734778800-1734789600@cottesmorevillagehall.org
SUMMARY:Pickleball
DESCRIPTION:
URL:https://cottesmorevillagehall.org/event/pickleball-34/
END:VEVENT
BEGIN:VEVENT
DTSTART;TZID=Europe/London:20241221T093000
DTEND;TZID=Europe/London:20241221T103000
DTSTAMP:20260423T042434
CREATED:20241201T095700Z
LAST-MODIFIED:20241201T095700Z
UID:1467-1734773400-1734777000@cottesmorevillagehall.org
SUMMARY:Yoga
DESCRIPTION:
URL:https://cottesmorevillagehall.org/event/yoga-65/
END:VEVENT
BEGIN:VEVENT
DTSTART;TZID=Europe/London:20241220T180000
DTEND;TZID=Europe/London:20241220T200000
DTSTAMP:20260423T042434
CREATED:20241201T095454Z
LAST-MODIFIED:20241201T095454Z
UID:1461-1734717600-1734724800@cottesmorevillagehall.org
SUMMARY:Children's Disco
DESCRIPTION:McNeill’s Bar
URL:https://cottesmorevillagehall.org/event/childrens-disco/
END:VEVENT
BEGIN:VEVENT
DTSTART;TZID=Europe/London:20241220T140000
DTEND;TZID=Europe/London:20241220T160000
DTSTAMP:20260423T042434
CREATED:20241201T095536Z
LAST-MODIFIED:20241201T095536Z
UID:1463-1734703200-1734710400@cottesmorevillagehall.org
SUMMARY:Table Tennis
DESCRIPTION:
URL:https://cottesmorevillagehall.org/event/table-tennis-111/
END:VEVENT
BEGIN:VEVENT
DTSTART;VALUE=DATE:20241220
DTEND;VALUE=DATE:20241221
DTSTAMP:20260423T042434
CREATED:20241201T095337Z
LAST-MODIFIED:20241201T095337Z
UID:1459-1734652800-1734739199@cottesmorevillagehall.org
SUMMARY:Lavender Mill
DESCRIPTION:
URL:https://cottesmorevillagehall.org/event/lavender-mill-62/
END:VEVENT
BEGIN:VEVENT
DTSTART;TZID=Europe/London:20241219T194500
DTEND;TZID=Europe/London:20241219T213000
DTSTAMP:20260423T042434
CREATED:20241201T095156Z
LAST-MODIFIED:20241201T095156Z
UID:1453-1734637500-1734643800@cottesmorevillagehall.org
SUMMARY:Dance Class
DESCRIPTION:
URL:https://cottesmorevillagehall.org/event/dance-class-5/
END:VEVENT
BEGIN:VEVENT
DTSTART;TZID=Europe/London:20241219T180000
DTEND;TZID=Europe/London:20241219T193000
DTSTAMP:20260423T042434
CREATED:20241201T095235Z
LAST-MODIFIED:20241201T095235Z
UID:1455-1734631200-1734636600@cottesmorevillagehall.org
SUMMARY:Brownies
DESCRIPTION:
URL:https://cottesmorevillagehall.org/event/brownies-22/
END:VEVENT
BEGIN:VEVENT
DTSTART;TZID=Europe/London:20241219T103000
DTEND;TZID=Europe/London:20241219T123000
DTSTAMP:20260423T042434
CREATED:20241201T095312Z
LAST-MODIFIED:20241201T095312Z
UID:1457-1734604200-1734611400@cottesmorevillagehall.org
SUMMARY:Pickleball
DESCRIPTION:
URL:https://cottesmorevillagehall.org/event/pickleball-33/
END:VEVENT
BEGIN:VEVENT
DTSTART;TZID=Europe/London:20241218T190000
DTEND;TZID=Europe/London:20241218T203000
DTSTAMP:20260423T042434
CREATED:20241201T094956Z
LAST-MODIFIED:20241201T094956Z
UID:1449-1734548400-1734553800@cottesmorevillagehall.org
SUMMARY:Bowls
DESCRIPTION:
URL:https://cottesmorevillagehall.org/event/bowls-12/
END:VEVENT
BEGIN:VEVENT
DTSTART;TZID=Europe/London:20241218T140000
DTEND;TZID=Europe/London:20241218T160000
DTSTAMP:20260423T042434
CREATED:20241201T095048Z
LAST-MODIFIED:20241201T095048Z
UID:1451-1734530400-1734537600@cottesmorevillagehall.org
SUMMARY:Table Tennis
DESCRIPTION:
URL:https://cottesmorevillagehall.org/event/table-tennis-110/
END:VEVENT
BEGIN:VEVENT
DTSTART;TZID=Europe/London:20241218T070000
DTEND;TZID=Europe/London:20241218T210000
DTSTAMP:20260423T042434
CREATED:20241201T094912Z
LAST-MODIFIED:20241201T094912Z
UID:1447-1734505200-1734555600@cottesmorevillagehall.org
SUMMARY:Investment Club
DESCRIPTION:Upstairs in the meeting room
URL:https://cottesmorevillagehall.org/event/investment-club-8/
END:VEVENT
END:VCALENDAR